BEGIN:VCALENDAR
PRODID:-//Grails iCalendar plugin//NONSGML Grails iCalendar plugin//EN
VERSION:2.0
CALSCALE:GREGORIAN
METHOD:PUBLISH
BEGIN:VEVENT
DTSTAMP:20260423T170840Z
DTSTART;TZID=Australia/Brisbane:20231121T180000
DTEND;TZID=Australia/Brisbane:20231121T200000
SUMMARY:Beyond Banality: Eichmann\, Deceit\, and Evil
UID:20260430T031248Z-iCalPlugin-Grails@philevents-web-6b96c54f56-bljdq
TZID:Australia/Brisbane
LOCATION:ACU\, 1100 Nudgee Road\, Banyo Queensland 4014\, Brisbane\, Australia
DESCRIPTION:<p>Hannah Arent claimed Adolf Eichmann embodied a thoughtless banality of evil\, whose crimes were not driven by "indoctrination of any kind".&nbsp\; Eichmann's Argentine interviews and political testament\,&nbsp\;"The Others Have Spoken\, Now I Want to Speak!" show that he was a Nazi ultra\, whose faith in genocidal Nazi ideology did not waver after the collapse of the Third Reich.&nbsp\; What then becomes of the idea of the "banality of evil"\, and what does Eichmann's case point towards\, in terms of philosophical understandings of evil?</p>
ORGANIZER:
METHOD:PUBLISH
END:VEVENT
END:VCALENDAR
