BEGIN:VCALENDAR
PRODID:-//Grails iCalendar plugin//NONSGML Grails iCalendar plugin//EN
VERSION:2.0
CALSCALE:GREGORIAN
METHOD:PUBLISH
BEGIN:VEVENT
DTSTAMP:20260421T042510Z
DTSTART;TZID=Asia/Nicosia:20240314T130000
DTEND;TZID=Asia/Nicosia:20240315T170000
SUMMARY:Ancient Philosophy and Science Beyond Borders
UID:20260422T074249Z-iCalPlugin-Grails@philevents-web-6b96c54f56-bljdq
TZID:Asia/Nicosia
LOCATION:Faculty of Classics\, University of Cambridge\, Cambridge\, United Kingdom
DESCRIPTION:<p>In anything from &lsquo\;Areas of Specialization&rsquo\; in resumes and job descriptions to introductory textbooks and university courses\, the field of &lsquo\;Ancient Philosophy&rsquo\; is often presented as being restricted to ancient Greek and Roman philosophy. Broad judgements about the nature of ancient philosophy are also commonly made in publications which purely address Greek and Roman texts. Such a narrow construal of the field\, though not universal\, perpetuates a presumption that philosophical inquiry throughout antiquity was confined to the Greeks and the Romans.</p>\n<p>Similarly\, the history of science is often said to begin in ancient Greece and little attention is usually given to the sustained investigations of shape and number\, health and disease\, and the motions of the heavens that were undertaken in other ancient societies. The modern division between philosophy and science is an anachronism when applied to the premodern world\, and scholars have much to gain from crossing this somewhat artificial border.</p>\n<p>This conference looks beyond the traditional canon of ancient philosophy and science to ask what can be learned from engaging with cross-cultural perspectives on ancient ethics and politics\, metaphysics and cosmology\, as well as the mathematical and the life sciences. Speakers from a range of disciplines (including Classics\, Philosophy\, History and Philosophy of Science\, Theology\, and Asian and Middle Eastern Studies) will thus discuss a range of texts\, ideas\, and figures from ancient Chinese\, Egyptian\, Greek\, Indian\, Jewish\, and Mesopotamian traditions of thought.</p>\n<p>The first day of the conference will be structured around two philosophical panels: the first will address topics in ancient ethics and politics\, while the second will focus on cosmology and metaphysics. The second day will then consider themes in ancient mathematics\, astronomy\, and physics\; before moving on to issues in ancient medicine and the life sciences.</p>\n<p>Confirmed speakers:</p>\n<p>Bernardo Ballesteros (Vienna)</p>\n<p>Amber D. Carpenter (KCL)</p>\n<p>Karine Chemla (CNRS)&nbsp\;</p>\n<p>Mark Geller (UCL)</p>\n<p>Elisabeth Hsu (Oxford)</p>\n<p>Annette Warner (Frankfurt)</p>\n<p>Ashley Lance (Cambridge)</p>\n<p>Chiara Martini (Cambridge)</p>\n<p>Stephen O Peprah (Cambridge)</p>\n<p>Eleanor Robson (UCL)</p>\n<p>Mor Segev (South Florida)</p>\n<p>Jan Westerhoff (Oxford)</p>\n<p>Jingyi Jenny Zhao (Cambridge)</p>\n<p>Chairs:</p>\n<p>G&aacute\;bor Betegh (Cambridge)</p>\n<p>Laura Castelli (Cambridge)</p>\n<p>Sophia Connell (Birkbeck)</p>\n<p>Myrto Hatzimichali (Cambridge)</p>\n<p>The Conference will take place in-person at the Faculty of Classics (G21)\, Cambridge\, on 14th March (12:30-18:30) and 15th March (9:00-17:00).</p>\n<p>Registration: A limited number of tickets for in-person attendance (priced at &pound\;10\, which includes lunch and a closing drinks reception on Friday 15th March as well as coffee/tea on both days) can be purchased here: https://onlinesales.admin.cam.ac.uk/conferences-and-events/faculty-of-classics/ancient-philosophy-and-science-beyond-borders/ancient-philosophy-and-science-beyond-borders-march-2024.</p>\n<p>PROGRAMME</p>\n<p>Thursday 14th March 2024</p>\n\n<p>12:30 Registration&nbsp\;</p>\n<p>12:45-13:00 Introductory remarks</p>\n\n<p>Panel 1 &ndash\; Ancient Ethics &amp\; Politics (G21\, Faculty of Classics)</p>\n<p>Chair: Myrto Hatzimichali (Cambridge)</p>\n<p>13:00-13:45 Amber D. Carpenter (KCL)\, &lsquo\;Knowledge and Ethical Transformation in Vasubandhu and Dignāga&rsquo\;</p>\n<p>13:45-14:30 Jingyi Jenny Zhao (Cambridge)\, &lsquo\;Children\, Nature and Morality in Ancient Greece and Early China&rsquo\;</p>\n<p>14:30-15:15 Stephen O Peprah (Cambridge)\, &lsquo\;Plato on the Individual\, Polis\, and Political Authority: A Study in Moderate Communitarianism&rsquo\;&nbsp\;</p>\n\n<p>15:15-15:45Break</p>\n\n<p>Panel 2 &ndash\; Cosmogony\, Cosmology\, &amp\; Metaphysics (G21\, Faculty of Classics)</p>\n<p>Chair: G&aacute\;bor Betegh (Cambridge)</p>\n<p>15:45-16:30 Bernardo Ballesteros (Vienna)\, &lsquo\;Honours and Destinies: Hesiod&rsquo\;s Theogony and the Babylonian Epic of Creation&rsquo\;</p>\n<p>16:30-17:15Jan Westerhoff (Oxford)\, &lsquo\;The place of rebirth in Buddhist philosophy&rsquo\;</p>\n<p>17:15-17:45 Break</p>\n<p>17:45-18:30 Mor Segev (South Florida)\, &lsquo\;Maimonides' Torah-based response to Aristotle on cosmic eternity and perfection&rsquo\;</p>\n\n<p>19:00 Conference dinner (speakers &amp\; chairs only)</p>\n\n<p>Friday 15th March 2024</p>\n\n<p>&nbsp\;Panel 3 &ndash\; Ancient Medicine &amp\; Life Sciences (G21\, Faculty of Classics)</p>\n<p>Chair: Sophia Connell (Birkbeck)</p>\n<p>9:00-9:45 Mark Geller (UCL)\, &lsquo\;The Anatomy of Ancient Babylonian Medicine&rsquo\;</p>\n<p>9:45-10:30 Elisabeth Hsu (Oxford)\, &lsquo\;Resonance (gan ying) as a philosophical problem\, or is it an anthropological one?&rsquo\;</p>\n<p>10:30-11:00 Break</p>\n<p>11:00-11:45 Ashley Lance (Cambridge)\, &lsquo\;Airs\, Waters\, Places and 'Racecraft' in Politics 7.7&rsquo\;</p>\n\n<p>11:45-13:15 Lunch</p>\n\n<p>&nbsp\;Panel 4 &ndash\; Ancient Mathematics (G21\, Faculty of Classics)</p>\n<p>Chair: Laura Castelli (Cambridge)</p>\n<p>13:15-14:00 Chiara Martini (Cambridge)\, &lsquo\;Theorems\, Problems\, and Diagrammatic Reasoning in Euclidean Geometry&rsquo\;</p>\n<p>14:00-14:45 Karine Chemla (CNRS)\, &lsquo\;Computing through proving versus computing formally. Reflections based on Chinese sources&rsquo\;&nbsp\;</p>\n<p>14:45-15:15 Break</p>\n<p>15:15-16:00 Laith Hussain (University of Baghdad) and Eleanor Robson (UCL\, presenting)\, &lsquo\;Micro-geographies of Old Babylonian mathematics&rsquo\;&nbsp\;</p>\n<p>16:00-16:45 Annette Imhausen (Frankfurt)\, &lsquo\;The Conceptualization of Mathematics in Pharaonic Egypt&rsquo\;</p>\n\n<p>16:45-17:00 Closing &nbsp\;</p>\n<p>End of Conference</p>\n<p>17:00 Closing reception</p>\n\n<p>The conference is generously supported by the Cambridge Faculty of Classics\, in collaboration with the Classics Beyond Borders project\; the Cambridge Department of History and Philosophy of Science\; and the British Society for the History of Philosophy.</p>\n\n&nbsp\;
ORGANIZER;CN=Lea Cantor;CN=Arthur Harris:
METHOD:PUBLISH
END:VEVENT
END:VCALENDAR
