BEGIN:VCALENDAR
PRODID:-//Grails iCalendar plugin//NONSGML Grails iCalendar plugin//EN
VERSION:2.0
CALSCALE:GREGORIAN
METHOD:PUBLISH
BEGIN:VEVENT
DTSTAMP:20260421T051218Z
DTSTART;TZID=Europe/Lisbon:20240415T093000
DTEND;TZID=Europe/Lisbon:20240420T170000
SUMMARY:5TH INTERNATIONAL MENTAL HEALTH MEETING OF ROMÃO DE SOUSA FOUNDATION:  Slow Psychiatry\, Human Rights and Democratic Mental Health
UID:20260422T102804Z-iCalPlugin-Grails@philevents-web-6b96c54f56-bljdq
TZID:Europe/Lisbon
LOCATION:R. Dr. António Bernardino de Almeida 400\, Porto\, Portugal\, 4200-072
DESCRIPTION:<p><strong>5TH INTERNATIONAL MENTAL HEALTH MEETING OF ROM&Atilde\;O DE SOUSA FOUNDATION:&nbsp\;Slow Psychiatry\, Human Rights and Democratic Mental Health</strong> &nbsp\;</p>\n<p>Porto (Portugal)\, 18-19 April 2024 &nbsp\;</p>\n<p>The term &ldquo\;Slow Psychiatry&rdquo\; was invented by the American psychiatrist Sandra Steingard. It arose in the context of her &ldquo\;Open Dialogue&rdquo\; work\, and was inspired by the Italian &ldquo\;Slow Food&rdquo\; movement in the 1980s\, which was a protest against the industrialization of what we eat and how we eat it. Today&rsquo\;s psychiatry\, and mental health in general\, are largely dehumanized fields\, which are owned and governed by technocrats and bureaucrats. This leaves therapies devoid of values\, and focused on &ldquo\;sticking-plaster&rdquo\; remedies and returning &ldquo\;sick people&rdquo\; to the neoliberal jungle. There is no time or interest to understand the pain and suffering\, to listen to personal stories\, or to know their contexts. Numbers and metrics &ndash\; symptom questionnaire scores\, prevalence rates\, hospital beds\, employment rates and disability benefits &ndash\; have become more important than relationships between us\, connecting people with each other\, and nurturing as a vital part of healing. &nbsp\; In the 5th International Meeting and associated events you will hear challenging but well-evidenced critiques of the mainstream mental health system. You will engage in debates and experiential work that will challenge your current view\, or expand on your current ideas. The International Mental Health Meeting can be attended in person or online. Various events will take place from Monday 15th to Saturday 20th of April &ndash\; join us in building a dialogic\, democratic and relational mental health system that is respectful of human rights.&nbsp\;&nbsp\;</p>\n<p>Keynote speakers</p>\n<p>-Democratic drug treatment in mental health: principles and practise\, by Joanna Moncrieff\, Division of Psychiatry\, University College London</p>\n<p>-Why the medical model of Psychosis is so unhelpful\, by John Read\, University of East London</p>\n<p>-How to Create Compassionate and Relational Mental Health Services\, by Russel Razzaque\, North East London NHS Foundation Trust (Online) &nbsp\;</p>\n<p>Workshops</p>\n<p>- Psychodance - Ana Cruz and Gonzalo Negrera</p>\n<p>- Psychedelic-assisted therapy -&nbsp\; Jo&atilde\;o Ribeiro and Jo&atilde\;o da Fonseca &nbsp\;</p>\n<p>Registration: https://congress2024.fundacaords.org/registration/</p>\n<p><strong><br></strong></p>\n<p><strong>CALL FOR ABSTRACTS</strong>&nbsp\;<br>DEADLINE: 01st of February 2024</p>\n<p>https://congress2024.fundacaords.org/cfa/ &nbsp\; &nbsp\;</p>\n<p><strong><br></strong></p>\n<p><strong>LLE - Living Learning Experience</strong> 15th\, 16th and 17th April 2024 | Rio Moment&acute\;s &ndash\; Country House Paiva Valley (Porto)</p>\n<p>The Living Learning Experience is a 3-day intensive experiential residential training course. It takes place entirely in groups\, and is run as a structured programme of activities in a democratic and non-hierarchical framework. Participants explore the experience of working closely with others\, and learn how to use relationships effectively in clinical practice. During the course participants have the opportunity to:<br>-Take part in community meetings\, small\, large and work groups\, and other activities involved in a residential community<br>-Meet with colleagues and share work experience<br>-Think about how they relate to others\, and safely experiment with new ways of thinking and behaving &nbsp\; &nbsp\;</p>\n<p><strong><br></strong></p>\n<p><strong>INDTC-RP Conference</strong> Relational Practice Around the World: Why it is important today 20th</p>\n<p>April 2024 (Porto - Portugal) The INDTC-RP Conference can be attended in person or online.&nbsp\; &nbsp\;</p>\n<p>How to register:&nbsp\;https://registration.indtc.org/</p>\n<p><br> <strong>Contact</strong>:&nbsp\;congress@fundacaords.org</p>
ORGANIZER;CN="João G. Pereira";CN=Rex Haigh;CN=Mariana Puchivailo;CN="Bruna Araújo";CN="Sofia Graça";CN="Inês Chão Quente";CN=Joana Ribeiro:
METHOD:PUBLISH
END:VEVENT
END:VCALENDAR
