BEGIN:VCALENDAR
PRODID:-//Grails iCalendar plugin//NONSGML Grails iCalendar plugin//EN
VERSION:2.0
CALSCALE:GREGORIAN
METHOD:PUBLISH
BEGIN:VEVENT
DTSTAMP:20260422T230913Z
DTSTART;TZID=Europe/London:20240316T090000
DTEND;TZID=Europe/London:20240316T090000
SUMMARY:9th Undergraduate Philosophy Conference
UID:20260428T014701Z-iCalPlugin-Grails@philevents-web-6b96c54f56-bljdq
TZID:Europe/London
DESCRIPTION:<p>The Philosophy Department of De La Salle University and Samahan ng mga Lasalyanong Pilosopo (DLSU PILOSOPO) proudly invite young scholars to the 8th Annual De La Salle University Undergraduate Philosophy Conference to be held on March 16\, 2024.<br><br>The conference aims to provide an opportunity for undergraduate students from different backgrounds and beliefs to be showcased in this platform through their papers.<br><br>For the past 9 years\, DLSU PILOSOPO has been organizing its annual undergraduate philosophy conference where undergraduate students are given an avenue to convene and share their philosophical research in the hopes of improving them. Through this conference\, undergraduate students will be presenting their research on philosophical issues and will be discussing helpful suggestions or queries from professionals in the field\, and co-undergraduate researchers. The conference will also have a plenary talk from philosophers who will discuss relevant philosophical problems to the audience.<br><br>The scope of the paper may focus on the following. However\, students may go beyond the given topics.</p>\n<p><br>&middot\; Philosophy of Mind</p>\n<p>&middot\; Epistemology&nbsp\;</p>\n<p>&middot\; Metaphysics&nbsp\;</p>\n<p>&middot\; Filipino Philosophy&nbsp\;</p>\n<p>&middot\; Philosophy of Religion&nbsp\;</p>\n<p>&middot\; Political Philosophy&nbsp\;</p>\n<p>&middot\; Philosophy of Language&nbsp\;</p>\n<p>&middot\; Philosophy of Science&nbsp\;</p>\n<p>&middot\; Moral Philosophy&nbsp\;</p>\n<p>&middot\; Aesthetics</p>\n<p><br> You may submit your papers through this link:&nbsp\;https://forms.gle/Kg9DhWDhzNWFmbVP7</p>
ORGANIZER;CN=Samahan ng mga Lasalyanong Pilosopo:
METHOD:PUBLISH
END:VEVENT
END:VCALENDAR
