BEGIN:VCALENDAR
PRODID:-//Grails iCalendar plugin//NONSGML Grails iCalendar plugin//EN
VERSION:2.0
CALSCALE:GREGORIAN
METHOD:PUBLISH
BEGIN:VEVENT
DTSTAMP:20260425T203311Z
DTSTART;TZID=Europe/Berlin:20240722T090000
DTEND;TZID=Europe/Berlin:20240726T170000
SUMMARY:17th International Conference on Persons
UID:20260427T193814Z-iCalPlugin-Grails@philevents-web-6b96c54f56-bljdq
TZID:Europe/Berlin
LOCATION:Hannoversche Straße 5b\, Berlin\, Germany\, 10115
DESCRIPTION:<p>This is the 17th in a series of conferences that began in 1991 and convenes every other year (2020 was delayed a year). The CFP is at the FB page.</p>
ORGANIZER;CN=Randall E. Auxier:
METHOD:PUBLISH
END:VEVENT
END:VCALENDAR
