BEGIN:VCALENDAR
PRODID:-//Grails iCalendar plugin//NONSGML Grails iCalendar plugin//EN
VERSION:2.0
CALSCALE:GREGORIAN
METHOD:PUBLISH
BEGIN:VEVENT
DTSTAMP:20260426T032549Z
DTSTART;TZID=Europe/London:20131201T090000
DTEND;TZID=Europe/London:20131201T090000
SUMMARY:Recent Work on the Logic of Ground
UID:20260428T063640Z-iCalPlugin-Grails@philevents-web-6b96c54f56-bljdq
TZID:Europe/London
LOCATION:Oslo\, Norway
DESCRIPTION:<p><strong>Deadline for abstracts\,&nbsp\;December 1\, 2013.</strong><br><br>There are two slots for contributed papers. If you&rsquo\;re interested in<br>contributing a paper please send an extended abstract of no more than 1000&nbsp\;words and suitable for blind review to Lina Tosterud at&nbsp\;</p>\n<p><a href="</span>lina.tosterud@ifikk.uio.no">lina.tosterud@ifikk.uio.no</a></p>\n<p>by&nbsp\;December 1\, 2013. Please use &ldquo\;Logic of Ground&rdquo\; in the subject field.</p>\n<p>If you have questions about workshop\, please direct them to Jon Litland</p>\n<p><a href="jon.litland@gmail.com">jon.litland@gmail.com</a></p>\n<p><strong>Topics for the contributed papers may include:</strong></p>\n<p><br>- How should grounding be expressed? By means of grounding relations? By<br>means of sentential operators?<br>- The problem of &ldquo\;grounding grounding&rdquo\;: if A grounds B\, what grounds that (A<br>grounds B)?<br>- Prospects for an impure logic of ground<br>- Prospects for a logic of immediate ground<br>- Prospects for\, and limits of\, Fine&rsquo\;s truthmaker semantics<br>- Quantification into grounding-claims: both first-order quantification and<br>quantification into sentence position<br>- Barcan and Converse Formulae for grounding<br>- Grounding negative claims and grounding universal claims<br>- Are coreferential terms substitutable salva veritate in grounding<br>contexts?<br>- Can what is grounded be irreducibly plural?<br>- Grounding and metaphysical modality<br>- Grounding and tense<br>- What&rsquo\;s the importance of the notion of weak ground?</p>
ORGANIZER;CN=Jon Erling Litland:
METHOD:PUBLISH
END:VEVENT
END:VCALENDAR
