BEGIN:VCALENDAR
PRODID:-//Grails iCalendar plugin//NONSGML Grails iCalendar plugin//EN
VERSION:2.0
CALSCALE:GREGORIAN
METHOD:PUBLISH
BEGIN:VEVENT
DTSTAMP:20260424T022542Z
DTSTART;TZID=Europe/London:20240204T230000
DTEND;TZID=Europe/London:20240204T230000
SUMMARY:AI ETHICS & HUMAN-COMPUTER INTERACTION
UID:20260501T020801Z-iCalPlugin-Grails@philevents-web-6b96c54f56-bljdq
TZID:Europe/London
DESCRIPTION:<p><strong>AI ETHICS &amp\; HUMAN-COMPUTER INTERACTION</strong></p>\n<p>Theoretical and Empirical Approaches to AI Ethics</p>\n<p>March 6-7\, 2024</p>\n<p>University of Graz\, Austria</p>\n<p><strong>INVITED SPEAKERS</strong><strong></strong></p>\n<p>-&nbsp\;Joanna Bryson&nbsp\;(Hertie School\, Berlin)</p>\n<p>-&nbsp\;Bertram Malle&nbsp\;(Brown University)</p>\n<p>-&nbsp\;Sven Nyholm&nbsp\;(LMU Munich)</p>\n<p><strong>TOPIC&nbsp\;&nbsp\;</strong><strong></strong></p>\n<p>The conference focuses on topics in Ethics of AI and empirical moral Human-Computer Interaction (HCI). Interdisciplinary approaches drawing on philosophy\, psychology\, social computer science and law are encouraged.&nbsp\;</p>\n<p>The topics include\, though are not limited to: Value alignment\, trust in and reliance on AI\, algorithmic bias and fairness\, AI explainability\, moral responsibility in CHI\, autonomous systems in high-stakes contexts\, normative criteria for RLHF\, psychological relations with AI agents\, and existential risk.&nbsp\;</p>\n<p><strong>SUBMISSION</strong><strong></strong></p>\n<p>Please submit an anonymized abstract of 500 words (not including references) in PDF format. Papers should not be published yet. All submissions will be reviewed double-blind by the organizing team. Successful submissions will either be accepted as presentations or posters.&nbsp\;&nbsp\;</p>\n<p>The anonymized submission should be sent to ethicsofaiconference@gmail.com by February 4. Please state your full name\, title and affiliation in the body of the email.&nbsp\;</p>\n<p><strong>DATES</strong><strong></strong></p>\n<p>Submission of abstracts:&nbsp\;4 February 2024</p>\n<p>Decisions announced:&nbsp\;10 February 2024</p>\n<p>Conference:&nbsp\;6-7 March 2024</p>\n<p><strong>CONTACT</strong></p>\n<p>For questions\, contact Markus Kneer under&nbsp\;markus.kneer@uni-graz.at.&nbsp\;</p>
ORGANIZER:
METHOD:PUBLISH
END:VEVENT
END:VCALENDAR
