BEGIN:VCALENDAR
PRODID:-//Grails iCalendar plugin//NONSGML Grails iCalendar plugin//EN
VERSION:2.0
CALSCALE:GREGORIAN
METHOD:PUBLISH
BEGIN:VEVENT
DTSTAMP:20260423T041508Z
DTSTART;TZID=America/New_York:20240420T090000
DTEND;TZID=America/New_York:20240420T170000
SUMMARY:Society in Transition: Gender and Social Change
UID:20260428T110543Z-iCalPlugin-Grails@philevents-web-6b96c54f56-bljdq
TZID:America/New_York
LOCATION:32 Vassar St\, Cambridge\, United States\, 02139
DESCRIPTION:<p>For more information\, contact:</p>\n<p>2024genderwksh@mit.edu</p>\n<p>Other panelists include interdiscipliary scholars and activists.</p>
ORGANIZER;CN=Sally Haslanger;CN=Justin Khoo;CN=Sonia Maria Pavel;CN=Katie Zhou:
METHOD:PUBLISH
END:VEVENT
END:VCALENDAR
