BEGIN:VCALENDAR
PRODID:-//Grails iCalendar plugin//NONSGML Grails iCalendar plugin//EN
VERSION:2.0
CALSCALE:GREGORIAN
METHOD:PUBLISH
BEGIN:VEVENT
DTSTAMP:20260421T221036Z
DTSTART;TZID=America/Los_Angeles:20240427T090000
DTEND;TZID=America/Los_Angeles:20240427T170000
SUMMARY:Berkeley-Stanford-Davis Graduate Conference in Philosophy\, 2024
UID:20260424T150716Z-iCalPlugin-Grails@philevents-web-6b96c54f56-bljdq
TZID:America/Los_Angeles
LOCATION:Philosophy Hall\, Berkeley\, United States\, 94720
DESCRIPTION:<p>This year&rsquo\;s Berkeley-Stanford-Davis Graduate Conference in Philosophy will be held at UC Berkeley on&nbsp\;<strong>April 27th\, 2024</strong>. Submissions are welcomed from all areas of philosophy.</p>\n<p>We are very excited to announce that our keynote speaker this year will be Olivia Bailey (UC Berkeley).</p>\n<p>We are currently accepting submissions\, and a schedule will be posted here once it is finalized. Submissions are due no later than&nbsp\;<strong>March 10th\, 2024</strong>. Notifications of acceptance are expected to be issued around April 1st.&nbsp\;</p>\n<p>Submit your papers via the following google form:&nbsp\;<a href="https://forms.gle/MokvSa7v8SpVBrfG6">https://forms.gle/MokvSa7v8SpVBrfG6</a>&nbsp\;</p>\n<p>Please direct any questions or concerns to Warren Thimothe [<a href="mailto:thimothe@berkeley.edu">thimothe@berkeley.edu</a>] and Kaden McMillan [<a href="mailto:kmcmillan@berkeley.edu">kmcmillan@berkeley.edu</a>].</p>
ORGANIZER;CN=Warren Thimothe;CN=Kaden McMillan;CN=Coleman Solis;CN=Jonathan Tanaka:
METHOD:PUBLISH
END:VEVENT
END:VCALENDAR
