BEGIN:VCALENDAR
PRODID:-//Grails iCalendar plugin//NONSGML Grails iCalendar plugin//EN
VERSION:2.0
CALSCALE:GREGORIAN
METHOD:PUBLISH
BEGIN:VEVENT
DTSTAMP:20260423T154604Z
DTSTART;TZID=Asia/Yerevan:20240715T090000
DTEND;TZID=Asia/Yerevan:20240726T170000
SUMMARY:Yerevan Academy for Linguistics and Philosophy (YALP) 2024
UID:20260429T224419Z-iCalPlugin-Grails@philevents-web-6b96c54f56-bljdq
TZID:Asia/Yerevan
LOCATION:Yerevan\, Armenia
DESCRIPTION:<p><strong>CALL FOR APPLICATIONS:</strong><strong></strong></p>\n<p><strong>&nbsp\;</strong></p>\n<p><strong>Yerevan Academy for Linguistics and Philosophy (YALP) 2024</strong></p>\n<p><strong>General Information</strong></p>\n<p>The Yerevan Academy for Linguistics and Philosophy (YALP) is an annual intensive summer program in linguistics and philosophy.&nbsp\;&nbsp\;</p>\n<p>The purpose of the academy is to provide an opportunity for students to develop their knowledge and skills\, possibly with a view toward applying to doctoral programs in philosophy or linguistics (including programs in the USA and Europe).</p>\n<p>Participation in the Yerevan Academy for Linguistics and Philosophy is free of charge.&nbsp\;But students will be responsible for the cost of their own housing while participating in YALP.</p>\n<p>YALP is generously hosted by the <a href="https://aua.am/">American University of Armenia</a> (AUA).</p>\n<p><strong><br></strong></p>\n<p><strong>People</strong></p>\n<p><strong><br></strong></p>\n<p><strong>Organizers</strong></p>\n<p><a href="https://danielaltshuler.com/">Daniel Altshuler</a>&nbsp\;(University of Oxford\, <strong>Linguistics</strong>)</p>\n<p><a href="http://aua.academia.edu/ArshakBalayan">Arshak Balayan</a>&nbsp\;(American University of Armenia\, <strong>Philosophy</strong>)</p>\n<p><a href="https://sites.google.com/view/susannamelkonian-altshuler/home?authuser=2">Susanna Melkonian-Altshuler</a>&nbsp\;(University of Connecticut\, <strong>Philosophy</strong>)</p>\n<p><br><br></p>\n<p><strong>Consultants</strong></p>\n<p><a href="http://www.ucd.ie/research/people/philosophy/professormariabaghramian/">Maria Baghramian</a>&nbsp\;(University College Dublin\, <strong>Philosophy</strong>)</p>\n<p><a href="http://philosophy.fas.nyu.edu/object/paulboghossian">Paul Boghossian</a><u>&nbsp\;</u>(New York University\, <strong>Philosophy</strong>)</p>\n<p><a href="http://www.mariapolinsky.com/">Maria Polinsky</a>&nbsp\;(University of Maryland\, <strong>Linguistics</strong>)&nbsp\;</p>\n<p><br><br></p>\n<p><strong>Confirmed Teaching Faculty</strong></p>\n<p>1.&nbsp\;&nbsp\;&nbsp\;&nbsp\; <a href="University%20of%20Washington-Seattle">Sosseh Assaturian</a> (University of Washington-Seattle\, <strong>Philosophy</strong>)</p>\n<p>2.&nbsp\;&nbsp\;&nbsp\;&nbsp\; <a href="http://aua.academia.edu/ArshakBalayan">Arshak Balayan</a>&nbsp\;(American University of Armenia\, <strong>Philosophy</strong>)</p>\n<p>3.&nbsp\;&nbsp\;&nbsp\;&nbsp\; <a href="https://vic.utoronto.ca/about-victoria/victoria-college-fellows-and-associates/barseghyan/">Hakob Barseghyan</a> (Victoria College\, <strong>Philosophy</strong>)</p>\n<p>4.&nbsp\;&nbsp\;&nbsp\;&nbsp\; <a href="https://www.linkedin.com/in/natalie-batmanian">Natalie Batmanian</a>(City University of New York &ndash\; College of Staten Island\,&nbsp\; &nbsp\;<strong>Linguistics</strong>)</p>\n<p>5.&nbsp\;&nbsp\;&nbsp\;&nbsp\; <a href="https://nbzr.org/">Nikita Bezrukov</a> (Princeton University\, <strong>Linguistics</strong>)</p>\n<p>6.&nbsp\;&nbsp\;&nbsp\;&nbsp\; <a href="https://www.ewu.edu/cahss/english-philosophy/faculty-staff/">Matthew Binney</a><strong> (</strong>Eastern Washington University\, <strong>English</strong>)&nbsp\;</p>\n<p>7.&nbsp\;&nbsp\;&nbsp\;&nbsp\; <a href="https://www.uvm.edu/cas/philosophy/profiles/louis-derosset">Louis deRosset</a> (University of Vermont\, Philosophy)</p>\n<p>8.&nbsp\;&nbsp\;&nbsp\;&nbsp\; <a href="https://www.angl.hu-berlin.de/department/staff-faculty/professors/egg">Markus Egg</a>&nbsp\;(Humboldt University Berlin\,&nbsp\;<strong>Linguistics</strong>)</p>\n<p>9.&nbsp\;&nbsp\;&nbsp\;&nbsp\; <a href="https://lihofmann.github.io/">Lisa Hofmann</a> (Stuttgart University\, Linguistics)</p>\n<p>10.&nbsp\; <a href="https://wp.nyu.edu/paloma/">Paloma Jeretič</a> ZAS Berlin\, <strong>Linguistics</strong>)</p>\n<p>11.&nbsp\; <a href="https://www.surrey.ac.uk/people/masha-kyuseva">Maria Kyuseva</a>&nbsp\;(The University of Surrey\,&nbsp\;<strong>Linguistics</strong>)</p>\n<p>12.&nbsp\; <a href="https://www.k-state.edu/philos/about/people/faculty/mahoney.html">Jon Mahoney</a> (Kansas State University\, <strong>Philosophy</strong>) &nbsp\;</p>\n<p>13.&nbsp\; <a href="https://www.southernct.edu/directory/marsoobiana1-0">Armen Marsoobian</a> (Southern Connecticut State University\, <strong>Philosophy</strong>)&nbsp\;</p>\n<p>14.&nbsp\; <a href="http://www.friederike-moltmann.com/">Friederike Moltmann</a> (CNRS &amp\; Universit&eacute\; C&ocirc\;te d&rsquo\;Azur\, <strong>Philosophy/Linguistics</strong>)</p>\n<p>15.&nbsp\; <a href="https://3c.virginia.edu/people/am5ef">Armik Mirzayan</a> (University of Virginia\, <strong>Linguistics</strong>)</p>\n<p>16.&nbsp\; <a href="http://www.mariapolinsky.com/">Maria Polinsky</a> (University of Maryland\, <strong>Linguistics</strong>)</p>\n<p>17.&nbsp\; <a href="https://people.umass.edu/roeper/?_gl=1*ygonoh*_gcl_au*MjEyNTUwNTc2MS4xNzA4MjY5NDUx*_ga*ODA1MjYwNTkyLjE3MDgyNjk0NTE.*_ga_21RLS0L7EB*MTcwODI2OTQ1MS4xLjAuMTcwODI2OTQ1MS4wLjAuMA..">Tom Roeper</a> (University of Massachusetts\, Amherst\, <strong>Linguistics</strong>)</p>\n<p>18.&nbsp\; <a href="https://www.ucl.ac.uk/dcal/valeria-vinogradova">Valeria Vinogradova</a>&nbsp\;(University of East Anglia\,&nbsp\;<strong>Linguistics</strong>)<br>&nbsp\;</p>\n<p><strong>Important Dates</strong></p>\n<p>Participants will be notified by May 1\, 2024.&nbsp\;To apply\, please fill out the application form and send it to 2024yalp@gmail.com&nbsp\;by April 18\, 2024.&nbsp\;&nbsp\;</p>\n<p>This summer program will have parallel sessions of linguistics and philosophy.&nbsp\;Students are expected to demonstrate commitment and to attend all classes\, which will be held on weekdays from&nbsp\;<strong>July 15 through July 26\, 2024</strong>.&nbsp\;&nbsp\;</p>\n<p>Additional details about the courses are published on the <a href="https://sites.google.com/view/yalp2017/yalp-2020?authuser=0">YALP webpage</a>.<br><br></p>\n<p><strong>Venue</strong></p>\n<p>All classes will be held in Paramaz Avedisian Building (PAB) of the&nbsp\;<a href="https://aua.am/">American University of Armenia</a> (AUA).</p>
ORGANIZER;CN=Susanna Melkonian-Altshuler;CN=Daniel Altshuler;CN=Arshak Balayan:
METHOD:PUBLISH
END:VEVENT
END:VCALENDAR
