BEGIN:VCALENDAR
PRODID:-//Grails iCalendar plugin//NONSGML Grails iCalendar plugin//EN
VERSION:2.0
CALSCALE:GREGORIAN
METHOD:PUBLISH
BEGIN:VEVENT
DTSTAMP:20260425T164949Z
DTSTART;TZID=America/New_York:20240715T000000
DTEND;TZID=America/New_York:20240715T000000
SUMMARY:The Molloy University Philosophy Conference featuring the North American Sartre Society
UID:20260427T144153Z-iCalPlugin-Grails@philevents-web-6b96c54f56-bljdq
TZID:America/New_York
LOCATION:Molloy University\, Rockville Centre\, United States
DESCRIPTION:<p>The Molloy University Philosophy Conference&nbsp\;</p>\n<p>featuring the North American Sartre Society</p>\n<p>29th Annual Meeting</p>\n<p>Call for Papers</p>\n<p>October 25-27\, 2024</p>\n<p>Molloy University</p>\n<p>*This conference will be fully hybrid*</p>\n<p>Submission Deadline: July 15th\, 2024</p>\n<p>Conference Themes:</p>\n<p>Existential Medicine &amp\; Existentialism and Disability</p>\n<p>Keynote Speaker:</p>\n<p>Jennifer Scuro</p>\n<p>Jennifer Scuro received her Ph.D. in philosophy from the New School for Social Research. She has taught Philosophy and Ethics for over 25 years and is now an Assistant Professor of Philosophy at Molloy University. Her research applies the Continental tradition\, including the existentialist tradition\, to issues related to critical disability studies\, cultural studies\, feminist theory\, and bioethics\, with new research on the intersection of disability and trauma.&nbsp\;</p>\n<p>She is the author of Addressing Ableism: Philosophical Questions via Disability Studies (Lexington Books 2018) and The Pregnancy &ne\; Childbearing Project: A Phenomenology of Miscarriage (Rowman &amp\; Littlefield International 2017)\, the latter of which is a graphic novel narrative with a feminist philosophical analysis of pregnant embodiment and grief.&nbsp\;</p>\n<p>Her most recent publications include &ldquo\;The Postcolonial and the Post-Traumatic: Specters and Syndromes of White Feminist Canon&rdquo\; in the latest issue of philoSOPHIA: a Journal of trans Continental Feminism (Vol. 13\, 2023) and the &ldquo\;Diagnosis&rdquo\; and &ldquo\;Trauma&rdquo\; entries for the collection\, Keywords/Images in Graphic Medicine\, (B. Martino &amp\; L. Diedrich\, eds.) forthcoming with Penn State University Press.</p>\n<p><strong><br><br></strong></p>\n<p>The North American Sartre Society (NASS) is inviting proposals for our 29th meeting\, taking place October 25-27\, 2024 at Molloy University\, in Rockville Centre\, NY.</p>\n\n<p>Our conference themes are Existential Medicine and Existentialism and Disability. We invite proposals on all topics related to these themes\, including\, but not limited to:</p>\n<ul>\n<li>\n<p>The overreliance on naturalism in modern medicine</p>\n</li>\n<li>\n<p>Bad faith\, authenticity\, and the illness experience</p>\n</li>\n<li>\n<p>How traditional existentialism does or does not account for the experiences of disability or neurodivergence</p>\n</li>\n<li>\n<p>Existentialism and anti-psychiatry</p>\n</li>\n<li>\n<p>Phenomenology of the illness experience\, the body uncanny</p>\n</li>\n<li>\n<p>The status of disability in Sartre&rsquo\;s ethics of integral humanity</p>\n</li>\n<li>\n<p>Challenging ableist conceptions of the human in existentialism</p>\n</li>\n<li>\n<p>Sartrean phenomenology and mental illness</p>\n</li>\n<li>\n<p>Fanon\, colonial mental illness\, and decolonial phenomenology</p>\n</li>\n<li>\n<p>Sartre&rsquo\;s own experience of disability</p>\n</li>\n<li>\n<p>Diagnostic labels\, facticity\, and transcendence</p>\n</li>\n</ul>\n\n<p>In addition\, we invite proposals from any area of Sartre studies and from any disciplinary background.In the spirit of Sartre&rsquo\;s eclectic thinking\, we encourage proposals that address philosophy\, literature\, theater\, aesthetics\, psychology\, politics\, intellectual history\, art\, music\, and other disciplines. Aiming to foster diverse and pluralistic approaches\, we understand Sartre Studies broadly to indicate work in the existentialist tradition\, including work emerging from thinkers like Simone de Beauvoir\, Maurice Merleau-Ponty\, Frantz Fanon\, Richard Wright\, Angela Davis\, Albert Camus\, Anna Julia Cooper\, Harriet Ann Jacobs\, Lewis R. Gordon\, Frederick Douglass\, Kathryn Sophia Belle\, Steve Biko\, Naomi Zack\, Chabani Manganyi\, Emilio Uranga\, Jorge Portilla\, W.E.B. Du Bois\, Aim&eacute\; C&eacute\;saire\, Keiji Nishitani\, Azzedine Haddour\, Martin Buber\, Hannah Arendt\, Martin Heidegger\, Gabriel Marcel\, Emmanuel Levinas\, Sara Ahmed\, danielle davis\, bell hooks\, Kamau Brathwaite\, Nathalie Etoke\, Achille Mbembe\, Suzanne C&eacute\;saire\, James Baldwin and others.</p>\n<p>This conference is fully hybrid. Please indicate in your proposal whether you plan to present in person or remotely.</p>\n<p>A limited number of stipends will be provided for graduate students and underemployed scholars who are attending in person. Please indicate in your proposal if you wish to be considered for a stipend.</p>\n<p>Information on lodging and travel will be forthcoming.</p>\n<p>The submission process is as follows:</p>\n<ul>\n<li>\n<p>The submission deadline is July 15th&nbsp\;</p>\n</li>\n<li>\n<p>We are accepting abstracts of 300-500 words. Reading time for papers is 20-25 minutes.</p>\n</li>\n<li>\n<p>We will accept proposals for both individual papers and panel proposals.</p>\n</li>\n<li>\n<p>English or French is acceptable</p>\n</li>\n<li>\n<p>Please submit your abstract (or any questions) by email to NASS President\, Kiki Berk\, k.berk@snhu.ed</a>u&nbsp\;</p>\n</li>\n<li>\n<p>Graduate students are encouraged to submit.</p>\n</li>\n<li>\n<p>All proposals will be forwarded to the program committee for review.</p>\n</li>\n</ul>\n\n<p>Contacts:</p>\n<p>Kiki Berk\, NASS President k.berk@snhu.edu</p>\n<p>Kimberly S. Engels\, Treasurer and Conference Host: kengels@molloy.edu</p>\n<p>Dane Sawyer\, NASS Co-President: dsawyer@laverne.edu</a>&nbsp\;</p>\n<p>Damon Boria\, NASS Executive Board Member: damon.boria@gmail.com</p>\n<p>T Storm Heter\, NASS Executive Board Member: sheter@esu.edu</p>\n<p>Elizabeth Butterfield\, NASS Executive Board Member: ebutterfield@georgiasouthern.edu</p>\n<p>Jake Jackson\, NASS Member at Large: jake.jackson.phd@gmail.com</p>\n<p>LaRose Parris\, NASS Member at Large: larose.parris@lehman.cuny.edu</p>\n<p>A Shahid Stover\, NASS Member at Large: brotherwisedispatch@gmail.com</p>\n<p>NASS Webpage:https://www.northamericansartresociety.org</a></p>\n<p>NASS Facebook:&nbsp\; https://www.facebook.com/SartreSociety/</a></p>\n\n<p>Sartre Studies International https://www.berghahnjournals.com/view/journals/sartre-studies/sartre-studies-overview.xml</a>&nbsp\;</p>\n<br>
ORGANIZER;CN=Kiki Berk:
METHOD:PUBLISH
END:VEVENT
END:VCALENDAR
