BEGIN:VCALENDAR
PRODID:-//Grails iCalendar plugin//NONSGML Grails iCalendar plugin//EN
VERSION:2.0
CALSCALE:GREGORIAN
METHOD:PUBLISH
BEGIN:VEVENT
DTSTAMP:20260422T204558Z
DTSTART;TZID=America/New_York:20241015T230000
DTEND;TZID=America/New_York:20241015T230000
SUMMARY:Rutgers Analytic Theology Seminar
UID:20260427T151934Z-iCalPlugin-Grails@philevents-web-6b96c54f56-bljdq
TZID:America/New_York
LOCATION:New Brunswick Theological Seminary\, New Brunswick\, United States
DESCRIPTION:<p>The Rutgers Analytic Theology Seminar solicits abstracts for papers in analytic theology\, for a conference to be held June 8-10\, 2025\, at Rutgers University's New Brunswick campus.&nbsp\; Papers&nbsp\;are welcome&nbsp\;in all areas of analytic theology\, including analytical historical theology.&nbsp\; RATS is an interfaith conference.&nbsp\; Abstracts will be blind-reviewed\; they should be a maximum of 500 words in length\, and should be anonymized for blind review.&nbsp\; Those sending abstracts should specify whether the final paper will be colloquium (3000 word) or symposium (4-5000 word) length.&nbsp\; At most one paper will be accepted for a submitted symposium\; some who send an abstract for a symposium slot may be offered a colloquium slot instead.&nbsp\; Some whose papers are not accepted may be offered commentator slots.&nbsp\; All sessions will be single-reader\; there will be no "panels."&nbsp\; Abstracts are due by October 15\, to frederick.choo@rutgers.edu.&nbsp\; Decisions will be announced by December 1.</p>\n\n<p>Keynote and symposium sessions will be read-ahead\, with commentators.&nbsp\; Colloquium papers will be read out\, and may or may not have commentators.&nbsp\; Keynote and symposium sessions may last 90 minutes or two hours\; colloquium sessions will be 60 or 75 mins.&nbsp\; Keynote speakers will be Oliver Crisp (St. Andrews)\, Katherin Rogers (U of Delaware)\, and Timothy Pawl (U of St Thomas).</p>
ORGANIZER;CN=Frederick Choo:
METHOD:PUBLISH
END:VEVENT
END:VCALENDAR
