BEGIN:VCALENDAR
PRODID:-//Grails iCalendar plugin//NONSGML Grails iCalendar plugin//EN
VERSION:2.0
CALSCALE:GREGORIAN
METHOD:PUBLISH
BEGIN:VEVENT
DTSTAMP:20260421T170633Z
DTSTART;TZID=America/Detroit:20241118T120000
DTEND;TZID=America/Detroit:20241118T120000
SUMMARY:18th Annual WMU Graduate Student Philosophy Conference
UID:20260423T220320Z-iCalPlugin-Grails@philevents-web-6b96c54f56-bljdq
TZID:America/Detroit
LOCATION:Kalamazoo\, United States
DESCRIPTION:<p>On March 14-15\, 2025 the Western Michigan University Graduate Student Association of Philosophers will host its 18th Annual Graduate Student Philosophy Conference. The conference will be fully in-person.</p>\n<p>The conference has no specific theme\, so we welcome submissions from graduate students in any field of philosophy.</p>\n<p>We are excited to be joined by Justin D'Arms of Ohio State University and Ami Harbin of Oakland University as our keynote speakers. We are also thrilled to be joined by WMU alumnus speaker\, Rebecca Kates\, a PhD student at the University of Notre Dame.&nbsp\;</p>\n<p>Breakfast\, lunch\, and dinner will be provided during the conference.&nbsp\;</p>\n<p>Submission Guidelines:</p>\n<p>Submissions must be prepared for anonymous review.</p>\n<p>Submissions are not to exceed 3500 words (not including abstract\, footnotes\, and references). Please include the paper's word count on the title page.</p>\n<p>Submissions are to be accompanied by a separate document\, composed of one&rsquo\;s affiliation\, paper title\, and an abstract of 350 words or less.</p>\n<p>Please send submissions to dallas.j.garzalaurin@wmich.edu.</p>
ORGANIZER:
METHOD:PUBLISH
END:VEVENT
END:VCALENDAR
