BEGIN:VCALENDAR
PRODID:-//Grails iCalendar plugin//NONSGML Grails iCalendar plugin//EN
VERSION:2.0
CALSCALE:GREGORIAN
METHOD:PUBLISH
BEGIN:VEVENT
DTSTAMP:20260425T165642Z
DTSTART;TZID=America/New_York:20140519T050000
DTEND;TZID=America/New_York:20140523T130000
SUMMARY:Metaphysical Mayhem
UID:20260427T144648Z-iCalPlugin-Grails@philevents-web-6b96c54f56-bljdq
TZID:America/New_York
LOCATION:106 Somerset Street\, 5th floor\, New Brunswick\, United States\, 08901
DESCRIPTION:<p>Mayhem is open to all local (NY/NJ area) graduate students\, but non-local students must apply to attend. To apply\, please send the following to&nbsp\;jonathan[dot]schaffer[at]rutgers[dot]edu&nbsp\;by&nbsp\;January 10\, 2014:</p>\n<ul>\n<li>A single page cover letter</li>\n<li>A curriculum vitae</li>\n<li>A writing sample on any topic in metaphysics</li>\n<li>A brief letter of recommendation (which need be no more than one paragraph)\, sent from a professor familiar with your work</li>\n</ul>\n<p>Applicants will be notified by&nbsp\;February 1\, 2014. Housing and possibly some limited financial support will be available for non-local graduate students.</p>
ORGANIZER;CN=Jonathan Schaffer:
METHOD:PUBLISH
END:VEVENT
END:VCALENDAR
