BEGIN:VCALENDAR
PRODID:-//Grails iCalendar plugin//NONSGML Grails iCalendar plugin//EN
VERSION:2.0
CALSCALE:GREGORIAN
METHOD:PUBLISH
BEGIN:VEVENT
DTSTAMP:20260425T134738Z
DTSTART;TZID=Europe/Berlin:20250403T090000
DTEND;TZID=Europe/Berlin:20250405T170000
SUMMARY:The Puzzle of Social Behavior: Game Theory and Beyond
UID:20260427T103238Z-iCalPlugin-Grails@philevents-web-6b96c54f56-bljdq
TZID:Europe/Berlin
LOCATION:Bielefeld\, Germany
ORGANIZER;CN=Mantas Radzvilas;CN=Wolfgang Spohn:
METHOD:PUBLISH
END:VEVENT
END:VCALENDAR
