BEGIN:VCALENDAR
PRODID:-//Grails iCalendar plugin//NONSGML Grails iCalendar plugin//EN
VERSION:2.0
CALSCALE:GREGORIAN
METHOD:PUBLISH
BEGIN:VEVENT
DTSTAMP:20260421T164320Z
DTSTART;TZID=Europe/Berlin:20241031T090000
DTEND;TZID=Europe/Berlin:20241101T170000
SUMMARY:CPS Gen 2.0 Reopening Workshop
UID:20260423T211033Z-iCalPlugin-Grails@philevents-web-6b96c54f56-bljdq
TZID:Europe/Berlin
LOCATION:Oslo\, Norway
DESCRIPTION:<p>The Centre for Philosophy and the Sciences (CPS)\, University of Oslo\, is happy to invite you to the CPS reopening workshop.</p>\n<p>In this workshop\, we will explore the diverse research strands within CPS. We'll discuss our common denominator through sessions on:</p>\n<ul>\n<li>Science\, Philosophy\, and Policymaking</li>\n<li>Formal Ontology and Applications</li>\n<li>Methodology in Philosophy and Metaphysics of Science</li>\n<li>Communication and the Social World</li>\n<li>Interdisciplinarity between Physics and Philosophy</li>\n</ul>\n<p>Please join us in celebrating this new chapter of CPS!</p>
ORGANIZER;CN=Yael Friedman:
METHOD:PUBLISH
END:VEVENT
END:VCALENDAR
