BEGIN:VCALENDAR
PRODID:-//Grails iCalendar plugin//NONSGML Grails iCalendar plugin//EN
VERSION:2.0
CALSCALE:GREGORIAN
METHOD:PUBLISH
BEGIN:VEVENT
DTSTAMP:20260422T190709Z
DTSTART;TZID=Europe/London:20250315T230000
DTEND;TZID=Europe/London:20250315T230000
SUMMARY:2025 Maite Ezcurdia Essay Prize
UID:20260427T074116Z-iCalPlugin-Grails@philevents-web-6b96c54f56-bljdq
TZID:Europe/London
DESCRIPTION:<p><strong>2025 Maite Ezcurdia Essay Prize</strong></p>\n<p>The Institute for Philosophical Research of UNAM through its journal&nbsp\;<em>Cr&iacute\;tica. Revista Hispanoamericana de Filosof&iacute\;a</em>&nbsp\;invites submissions for the &ldquo\;2025 Maite Ezcurdia Essay Prize&rdquo\; on the topic:</p>\n<p><strong><em>Contextual Aspects of Language</em></strong></p>\n<p>Articles may be written in English or Spanish\, should include an abstract of no more than 110 words\, and should not exceed 10\,000 words (excluding references).</p>\n<p>All manuscripts will be considered as submissions to the journal and will be evaluated by external referees through&nbsp\;<em>Cr&iacute\;tica</em>&rsquo\;s double-blind review system. The winning manuscript will be selected from among the articles accepted for publication by a jury appointed by the Editors of&nbsp\;<em>Cr&iacute\;tica</em>.</p>\n<p>The author(s) of the winning essay will receive a cash prize of&nbsp\;<strong>MXN $50\,000</strong>&nbsp\;(equivalent to approximately&nbsp\;<strong>USD $2\,500</strong>) and will be invited to present their article at the award ceremony that will take place at the National Autonomous University of Mexico during the first week of December 2025.</p>\n<p>To submit an article\, authors must first&nbsp\;register&nbsp\;with the journal and upload their article into the system:</p>\n<p>https://critica.filosoficas.unam.mx/index.php/critica/user/register</p>\n<p>To be considered for the prize\, authors should write &ldquo\;2025 Maite Ezcurdia Essay Prize&rdquo\; in the comments to the editor.</p>\n<p><strong>Important dates</strong></p>\n<p>March 15\, 2025: Deadline for submission of articles</p>\n<p>June 15\, 2025: First decision on submissions</p>\n<p>October 31\, 2025: Final decision on articles accepted for publication</p>\n<p>November 15\, 2025: Announcement of the winning article</p>\n<p>December 4\, 2025: Award ceremony</p>\n<p>December 15\, 2025: Publication of accepted articles</p>\n<p>For any queries\, please contact editor-in-chief Santiago Echeverri (santiago.echeverri@filosoficas.unam.mx).</p>\n<p><strong>About the Maite Ezcurdia Essay Prize&nbsp\;</strong><strong>&nbsp\;</strong></p>\n<p>The &ldquo\;Maite Ezcurdia Essay Prize&rdquo\; is a biennial prize created in honor of the life and work of Maite Ezcurdia (1966&ndash\;2018)\, a Mexican philosopher who played a key role in the development of analytic philosophy in Mexico and Latin America. Her research focused on philosophy of language\, philosophy of mind\, epistemology\, and cognitive science. Maite Ezcurdia&rsquo\;s main research interests were the analysis of referential expressions\, the semantics and pragmatics interface\, the nature of linguistic understanding\, consciousness\, perception\, and&nbsp\;<em>de se</em>&nbsp\;thoughts. As a researcher at the Institute for Philosophical Research of UNAM\, Maite Ezcurdia trained several generations of philosophers who have pursued successful academic careers. She worked tirelessly to improve the academic quality of philosophical work in Mexico and was the editor-in-chief of the journal&nbsp\;<em>Cr&iacute\;tica</em>&nbsp\;(2005&ndash\;2011). At the international level\, Maite Ezcurdia promoted the creation of the Latin American Association of Analytic Philosophy (ALFAn).&nbsp\;</p>\n<p>The prize is funded by Maite Ezcurdia&rsquo\;s family and the convening institutions.</p>\n<p>For more information about Maite Ezcurdia\, see:</p>\n<p>https://www.filosoficas.unam.mx/maite-ezcurdia/</p>\n<p>A website in English is in preparation.</p>\n<p><strong>About&nbsp\;<em>Cr&iacute\;tica</em></strong></p>\n<p><em>Cr&iacute\;tica. Revista Hispanoamericana de Filosof&iacute\;a</em>&nbsp\;is a quarterly journal published by the Institute for Philosophical Research at UNAM in Mexico. It publishes original articles\, discussions\, survey articles\, book symposia\, target articles\, special issues\, and reviews in any area of philosophy\, as long as they fall within the analytic tradition broadly understood.&nbsp\;<em>Cr&iacute\;tica</em>&nbsp\;places great value on conceptual precision\, argumentative rigor\, and originality.&nbsp\;<em>Cr&iacute\;tica</em>&rsquo\;s readers are primarily academic philosophers and philosophy students\, so authors are expected to make clear how their work helps advance the relevant philosophical debates.</p>\n\n<p><em>Cr&iacute\;tica</em>&nbsp\;welcomes contributions in all areas of contemporary philosophy\, including aesthetics\, epistemology\, ethics\, general philosophy of science\, metaethics\, metaphilosophy\, metaphysics\, moral philosophy\, philosophy of action\, philosophy of language\, philosophy of logic\, philosophy of mind\, philosophy of the special sciences\, political philosophy\, and social philosophy.&nbsp\;<em>Cr&iacute\;tica</em>&nbsp\;also publishes contributions in the history of philosophy\, provided that they focus on philosophical problems and arguments rather than on merely exegetical or contextual aspects of some historical figure or period.&nbsp\;<em>Cr&iacute\;tica</em>&nbsp\;also publishes articles that draw on empirical evidence to discuss issues of relevance to contemporary philosophy.</p>\n\n<p><em>Cr&iacute\;tica</em>&nbsp\;publishes articles in English and Spanish. All accepted articles are published open access\, as defined by the&nbsp\;Budapest Open Access Initiative\, which allows users to download\, read\, distribute\, and print the contents published by the journal\, on the condition that they give credit to the original authors and editors.&nbsp\;<em>Cr&iacute\;tica</em>&nbsp\;does not charge for submission\, processing\, publication or reading of manuscripts.</p>\n\n<p>Founded in 1967 by Alejandro Rossi\, Fernando Salmer&oacute\;n and Luis Villoro\,&nbsp\;<em>Cr&iacute\;tica</em>&nbsp\;was the first journal dedicated to analytic philosophy in Latin America. It has published articles by influential authors such as Carlos Alchourr&oacute\;n\, G.E.M. Anscombe\, David M. Armstrong\, Eugenio Bulygin\, H&eacute\;ctor-Neri Casta&ntilde\;eda\, Donald Davidson\, Jon Elster\, R.M. Hare\, Gilbert Harman\, John L. Mackie\, Hugo Marg&aacute\;in\, John McDowell\, Thomas Nagel\, David F. Pears\, Arthur N. Prior\, Hilary Putnam\, W.V.O. Quine\, Richard Rorty\, Gilbert Ryle\, Sydney Shoemaker\, Thomas M. Simpson\, Ernest Sosa\, Peter F. Strawson\, Bas C. van Fraassen\, and Georg H. von Wright.</p>\n<p>Interested in submitting your work to&nbsp\;<em>Cr&iacute\;tica</em>? Please read our&nbsp\;guidelines for authors. You will need to&nbsp\;register with the journal before submitting your paper. If you have any questions\, please contact editor-in-chief Santiago Echeverri (santiago.echeverri@filosoficas.unam.mx).</p>
ORGANIZER:
METHOD:PUBLISH
END:VEVENT
END:VCALENDAR
