BEGIN:VCALENDAR
PRODID:-//Grails iCalendar plugin//NONSGML Grails iCalendar plugin//EN
VERSION:2.0
CALSCALE:GREGORIAN
METHOD:PUBLISH
BEGIN:VEVENT
DTSTAMP:20260422T204406Z
DTSTART;TZID=America/Toronto:20241118T103000
DTEND;TZID=America/Toronto:20241118T120000
SUMMARY: Socio-Political Identity\, Associative Benefits\, and the Fair Play Theory of Political Obligation
UID:20260427T151323Z-iCalPlugin-Grails@philevents-web-6b96c54f56-bljdq
TZID:America/Toronto
LOCATION:1151 Richmond Street\, London\, Canada
ORGANIZER:
METHOD:PUBLISH
END:VEVENT
END:VCALENDAR
