BEGIN:VCALENDAR
PRODID:-//Grails iCalendar plugin//NONSGML Grails iCalendar plugin//EN
VERSION:2.0
CALSCALE:GREGORIAN
METHOD:PUBLISH
BEGIN:VEVENT
DTSTAMP:20260420T153312Z
DTSTART;TZID=America/Los_Angeles:20140125T060000
DTEND;TZID=America/Los_Angeles:20140125T120000
SUMMARY:SoCal PhilMath + PhilLogic + FoM Workshop
UID:20260421T001743Z-iCalPlugin-Grails@philevents-web-f5d4878dd-nv7xt
TZID:America/Los_Angeles
LOCATION:3709 Trousdale Parkway\, Los Angeles\, United States\, 90089
DESCRIPTION:<p>If you plan to attend please contact Andrew Bacon at the provided e-mail address.</p>
ORGANIZER;CN=Andrew Bacon;CN=Michael Culbertson;CN=Sean Walsh:
METHOD:PUBLISH
END:VEVENT
END:VCALENDAR
