BEGIN:VCALENDAR
PRODID:-//Grails iCalendar plugin//NONSGML Grails iCalendar plugin//EN
VERSION:2.0
CALSCALE:GREGORIAN
METHOD:PUBLISH
BEGIN:VEVENT
DTSTAMP:20260424T061520Z
DTSTART;TZID=America/Detroit:20250117T234500
DTEND;TZID=America/Detroit:20250117T234500
SUMMARY:Rackham Interdisciplinary Workshop in Early Modern Philosophy at the University of Michigan
UID:20260424T120615Z-iCalPlugin-Grails@philevents-web-6b96c54f56-bljdq
TZID:America/Detroit
LOCATION:Ann Arbor\, United States
DESCRIPTION:<p><strong>Rackham Interdisciplinary Workshop in Early Modern Philosophy</strong></p>\n<p><strong><em>&nbsp\;</em></strong></p>\n<p><strong><em>Call for Papers</em></strong></p>\n<p><u>University of Michigan at Ann Arbor\, 11&ndash\;12 April 2025</u></p>\n<p><strong>Keynote Speaker:</strong>&nbsp\;Marleen Rozemond\, University of Toronto</p>\n<p>The Early Modern Working Group at the University of Michigan is pleased to announce the inaugural Rackham Interdisciplinary Workshop in Early Modern Philosophy. The workshop will take place in-person and the event will be held in Ann Arbor\, Michigan\, on Friday and Saturday\,&nbsp\;<strong>11&ndash\;12 April 2025</strong>.</p>\n<p>We invite proposals from graduate students and early career faculty on any topic in the field of early modern philosophy. Given the interdisciplinary nature of the working group at the University of Michigan\, we welcome papers that involve a variety of approaches to texts in the early modern period\, whether they be analytical\, continental\, literary\, comparative\, or historical. Each presenter will be given 25 minutes to present\, followed by 5 minutes of a formal response from a commentator and 20 minutes of audience discussion. Please note as well that speakers will be expected to cover their own travel and lodging costs.</p>\n<p>To submit a paper for consideration\, please submit a single PDF document containing a 300&ndash\;500-word abstract to&nbsp\;<strong><u>MichiganEarlyModernWorkshop@gmail.com</u></strong>&nbsp\;as an attachment. The PDF should contain no identifying information and be suitable for blind review but the body of the email should contain your name\, paper title\, university affiliation and position.&nbsp\;</p>\n<p><strong>Abstracts are due no later than 17 January 2025</strong>. Applicants will be notified of their acceptance by 31 January 2025. Full papers will be due to commentators by 14 March 2025.</p>\n<p>Please feel free to send any questions you may have to Sean Costello\, at scostel@umich.edu.</p>\n<p><u>Organizing Committee</u>:</p>\n<p>Sean M. Costello\, scostel@umich.edu</p>\n<p>Lila Graham\, lilabee@umich.edu</p>\n<p>Andrew C. Mayo\, acmayo@umich.edu</p>
ORGANIZER;CN=Sean M. Costello:
METHOD:PUBLISH
END:VEVENT
END:VCALENDAR
