BEGIN:VCALENDAR
PRODID:-//Grails iCalendar plugin//NONSGML Grails iCalendar plugin//EN
VERSION:2.0
CALSCALE:GREGORIAN
METHOD:PUBLISH
BEGIN:VEVENT
DTSTAMP:20260420T165010Z
DTSTART;TZID=Europe/Athens:20250703T090000
DTEND;TZID=Europe/Athens:20250705T170000
SUMMARY:The second annual conference of the ICCS “AI and Sentience”
UID:20260421T040934Z-iCalPlugin-Grails@philevents-web-f5d4878dd-nv7xt
TZID:Europe/Athens
LOCATION:Megaron Hotel\, Doukos Mpofor 9\, Iráklion\, Greece
DESCRIPTION:<p>The second annual conference of the ICCS &ldquo\;AI and Sentience&rdquo\; will be held on July 3-5\, 2025\, in Heraklion\, Crete. The conference will cover the main topics on the cross of AI and consciousness studies\, focusing on sentience:</p>\n<ul>\n<li>Is AI sentience possible?</li>\n<li>What is AI sentience?</li>\n<li>How to detect sentience in AI systems?</li>\n<li>What are the limits of AI sentience?</li>\n<li>What theories of consciousness can explain AI sentience?</li>\n<li>What the possibility of AI sentience tells us about human and animal consciousness?</li>\n<li>How close are we to AI sentience?</li>\n<li>What are the moral implications of AI sentience?</li>\n</ul>\n<p>The conference will include plenary sessions and discussions with invited speakers\, symposia and poster presentations.&nbsp\;Each symposium will consist of four short presentations (up to 10 minutes) and a longer moderated discussion. The main aim of the symposia is to raise a controversial problem and involve the participants and the audience in conversation.</p>
ORGANIZER;CN=Pietro Perconti;CN=Keith Frankish;CN=Artem Besedin:
METHOD:PUBLISH
END:VEVENT
END:VCALENDAR
