BEGIN:VCALENDAR
PRODID:-//Grails iCalendar plugin//NONSGML Grails iCalendar plugin//EN
VERSION:2.0
CALSCALE:GREGORIAN
METHOD:PUBLISH
BEGIN:VEVENT
DTSTAMP:20260422T184226Z
DTSTART;TZID=Europe/London:20250531T234500
DTEND;TZID=Europe/London:20250531T234500
SUMMARY:[EXTENDED DEADLINE] Special Issue of "Semiotic Studies" on anti-realism in philosophy of mind
UID:20260427T064717Z-iCalPlugin-Grails@philevents-web-6b96c54f56-bljdq
TZID:Europe/London
DESCRIPTION:<p><em>Studia Semiotyczne (Semiotic Studies)</em> invites submissions for a special issue devoted to the critical discussion of Krzysztof Posłajko&rsquo\;s book <em>Unreal Beliefs: An Anti-Realist Approach in the Metaphysics of Mind </em>(Bloomsbury\, 2024). Papers should be written in English and prepared for blind review.</p>\n<p>Recent years brought a revival of interest in the metaphysics of beliefs. Significant contributions have been made on strongly realist (Quilty-Dunn &amp\; Mandelbaum 2018\, Porot &amp\; Mandelbaum 2020)\, so-called superficialist ( Molder 2010\, Schwitzgebel 2021\, Curry 2021) and anti-realist (Toon 2023\, Parent 2022\, Demeter 2022) sides of a debate. The issues concerning the taxonomy of mental states posited by folk psychology and the attribution of beliefs to non-human agents provoke considerations about the nature of belief and the criteria of belief attribution. The book by Krzysztof Posłajko provides us with a novel way of framing the anti-realist position on the metaphysics of beliefs. While drawing negative ontological conclusions from the arguments against realism\, the author refrains from adopting the eliminativist or fictionalist position. Instead\, he proposes a view called &lsquo\;minimal non-realism&rsquo\; which\, on the one hand\, denies the existence of beliefs understood as natural properties and\, on the other hand\, allows for true belief attributions understood in a deflationary way.</p>\n<p>We hope that the special issue of <em>Studia Semiotyczne</em> will further strengthen the scholarly interest in anti-realist approaches in the metaphysics of mind and provide a platform to discuss the ideas present in Posłajko&rsquo\;s book. We plan the issue to have the form of a book symposium\, accompanied by responses from professor Posłajko. The symposium will consist of both openly submitted papers and invited contributions from the following authors:</p>\n<p>- Brice Bantegnie (UC Riverside\, University of Southampton)</p>\n<p>- Devin Sanchez Curry (West Virginia University)</p>\n<p>- Witold Hensel (University of Warsaw)</p>\n<p>- Amir Horowitz (Open University of Israel)</p>\n<p>- Annemarie Kalis (Utrecht University)</p>\n<p>- Joanna Komorowska-Mach (University of Warsaw)</p>\n<p>- Piotr Kozak (University of Białystok)</p>\n<p>- Bruno M&ouml\;lder (University of Tartu)</p>\n<p>- Eric Schwitzgebel (UC Riverside)</p>\n<p>- Tad Zawidzki (George Washington University)</p>\n<p>We seek original contributions engaging with the contents of Posłajko&rsquo\;s book\, both critically assessing its project and extending it. The range of possible topics include</p>\n<p>●&nbsp\;&nbsp\;&nbsp\;&nbsp\;&nbsp\; the relationship between anti-realism about beliefs\, mental fictionalism and interpretivism\;</p>\n<p>●&nbsp\;&nbsp\;&nbsp\;&nbsp\;&nbsp\; the relationship between anti-realism about beliefs and eliminative materialism\;</p>\n<p>●&nbsp\;&nbsp\;&nbsp\;&nbsp\;&nbsp\; the relationship between anti-realism about beliefs and neo-dispositionalism\;</p>\n<p>●&nbsp\;&nbsp\;&nbsp\;&nbsp\;&nbsp\; the arguments for and against natural kind realism about beliefs\;</p>\n<p>●&nbsp\;&nbsp\;&nbsp\;&nbsp\;&nbsp\; the semantics and metasemantics of the term &lsquo\;belief&rsquo\;\;</p>\n<p>●&nbsp\;&nbsp\;&nbsp\;&nbsp\;&nbsp\; the relationship between folk psychological notion of belief and the notion of belief used in cognitive science\;</p>\n<p>●&nbsp\;&nbsp\;&nbsp\;&nbsp\;&nbsp\; the issue of causal efficacy and causal relevance of beliefs\;</p>\n<p>●&nbsp\;&nbsp\;&nbsp\;&nbsp\;&nbsp\; the relationship between dispositional and occurrent beliefs\;</p>\n<p>as well as the connection between these philosophical problems and psychology and cognitive science.</p>\n<p>We warmly encourage submissions by early-career philosophers\, authors whose first language is not English\, and authors who belong to traditionally underrepresented academic groups.</p>\n<p>To submit the paper\, one is kindly asked to submit the manuscript by sending it by the 1st of May 2025 to:</p>\n<p><a target="_blank">a.machcewicz-grad@uw.edu.pl</a>\, <a target="_blank">tarmaciej@gmail.com</a> and <a target="_blank">studiasemiotyczne@pts.edu.pl</a></p>\n<p>All submitted papers will be double-blind peer-reviewed.</p>\n<p><strong>&nbsp\;</strong></p>\n<p><strong>Journal:</strong></p>\n<p><em>Studia Semiotyczne (Semiotic Studies)</em></p>\n<p><a  target="_blank"  data-saferedirecturl="https://www.google.com/url?q=http://studiasemiotyczne.pts.edu.pl/&amp\;source=gmail&amp\;ust=1732356717034000&amp\;usg=AOvVaw1PFDs1Sl3Md4zfVfzt3oS1">http://studiasemiotyczne.pts.edu.pl/</a></p>\n<p><strong>Deadline for submissions:</strong></p>\n<p>1st of May 2025</p>\n<p>Extended: 31st of May 2025</p>\n<p><strong>About the journal:</strong></p>\n<p><em>Studia Semiotyczne</em> (<em>Semiotic Studies</em>) is a journal founded in 1970 by Jerzy Pelc\, its editor-in-chief until 2015. Papers accepted for publication in the journal revolve around various aspects of semiotics (conceived in the Morris-Carnap sense) and philosophy (with a special focus on philosophy of language and linguistics\, philosophy of mind\, philosophy of logic and mathematics). Papers submitted as articles are subject to a double-blind peer review. <em>Studia Semiotyczne</em> is an open-access journal published by The Polish Semiotic Society (Polskie Towarzystwo Semiotyczne).</p>\n<p>The journal is present in Academica\, BazHum\, CEEOL\, CEJSH\, DOAJ\, EBSCO Discovery Service\, ERIH Plus\, Index Copernicus\, Library of Science\, Philosopher&rsquo\;s Index\, PhilPapers\, Polona\, Scopus and Web of Science. The journal is also ranked by the following national agencies for scholarly evaluation:</p>\n<p>- ANVUR (Italy): both as a scientific journal and as an A-Class (area 11)\,</p>\n<p>- MEiN (Poland).</p>\n<p><a  target="_blank"  data-saferedirecturl="https://www.google.com/url?q=http://studiasemiotyczne.pts.edu.pl/&amp\;source=gmail&amp\;ust=1732356717034000&amp\;usg=AOvVaw1PFDs1Sl3Md4zfVfzt3oS1">http://studiasemiotyczne.pts.edu.pl/</a></p>
ORGANIZER:
METHOD:PUBLISH
END:VEVENT
END:VCALENDAR
