BEGIN:VCALENDAR
PRODID:-//Grails iCalendar plugin//NONSGML Grails iCalendar plugin//EN
VERSION:2.0
CALSCALE:GREGORIAN
METHOD:PUBLISH
BEGIN:VEVENT
DTSTAMP:20260422T164902Z
DTSTART;TZID=Europe/Amsterdam:20250519T093000
DTEND;TZID=Europe/Amsterdam:20250520T170000
SUMMARY:The Dutch Research School of Philosophy (OZSW) 12th Annual Conference 2025 at TU Delft 
UID:20260426T224917Z-iCalPlugin-Grails@philevents-web-6b96c54f56-bljdq
TZID:Europe/Amsterdam
LOCATION:TU Delft Campus\, Delft\, Netherlands
DESCRIPTION:<p>View Call for Papers:&nbsp\;<a href="https://www.ozsw.nl/activity/ozsw-annual-conference/">OZSW Annual Conference &ndash\; ozsw</a></p>\n<p>Link to Submission Form:&nbsp\;<a href="https://docs.google.com/forms/d/e/1FAIpQLScUqpADqq5vRgn0CtBDUaXdp_MVUJqxMCs6mlifFIhqM0m0Og/viewform">OZSW Annual Conference\, 19-20 May 2025 (Delft): Submission Form</a></p>\n<p><strong>Important deadlines</strong></p>\n<ul>\n<li>Submission deadline:&nbsp\;<strong>January 15\, 2025</strong></li>\n<li>Expected notification of acceptance decision:&nbsp\;<strong>February 10\, 2025</strong></li>\n<li>Registration opens:&nbsp\;<strong>February 10\, 2025</strong></li>\n<li>Registration with early bird fee:&nbsp\;<strong>Feb 10 &ndash\; April 15 2025</strong></li>\n<li>Registration with latecomer fee:&nbsp\;<strong>April 16 &ndash\; May 15 2025</strong>&nbsp\;</li>\n</ul>\n<p>&nbsp\;Please direct all questions concerning the conference to <a href="mailto:2025conference@ozsw.nl">2025conference@ozsw.nl</a></p>
ORGANIZER;CN=Kritika Maheshwari;CN=Samuela Marchiori;CN=Aaron Moreno Ingles;CN=Eugen Octav Popa;CN="Ida Krstulović";CN=Aishwarya Suresh Iyer;CN=Andrea R. Gammon;CN=Lissy Mayer;CN=Sophia Wessels:
METHOD:PUBLISH
END:VEVENT
END:VCALENDAR
