BEGIN:VCALENDAR
PRODID:-//Grails iCalendar plugin//NONSGML Grails iCalendar plugin//EN
VERSION:2.0
CALSCALE:GREGORIAN
METHOD:PUBLISH
BEGIN:VEVENT
DTSTAMP:20260421T132210Z
DTSTART;TZID=America/Chicago:20250405T090000
DTEND;TZID=America/Chicago:20250405T170000
SUMMARY:2025 Midwest Undergraduate Philosophy Conference
UID:20260423T121916Z-iCalPlugin-Grails@philevents-web-6b96c54f56-bljdq
TZID:America/Chicago
LOCATION:2500 California Plaza\, Omaha\, United States\, 68178
DESCRIPTION:<p><strong>2025 Midwest Undergraduate Philosophy Conference</strong></p>\n<p><strong>Creighton University<br>April 5\, 2025</strong></p>\n<p>The 2025 Midwest Undergraduate Philosophy Conference will be held on Saturday\, April 5\, 2024\, on the campus of Creighton University in Omaha\, Nebraska.&nbsp\;The conference will host an opening reception and a dinner for presenters on the evening of Friday\, April 4. Students who are unable to attend the Friday events are still welcome and encouraged to submit their work for presentation at the conference.</p>\n<p><strong>Submission guidelines:</strong>&nbsp\;We welcome submissions in all areas of philosophy from current undergraduate students. Papers should be 3000 words or less and suitable for presenting in under 25 minutes. All submissions must be anonymized for blind review.&nbsp\;<strong>The deadline for submissions is January 13\, 2024.</strong></p>\n<p><strong>To submit a paper:</strong>&nbsp\;Please submit your anonymized paper electronically in PDF format along with a separate abstract of 150-250 words to at bit.ly/mupc-2025.&nbsp\;</p>\n<p>Authors whose papers are selected for the conference will be notified by February 21.</p>\n<p>For any further information\, please contact the conference organizing committee at&nbsp\;MUPCOmaha@gmail.com&nbsp\;or Dr. Marc Johansen at&nbsp\;marcjohansen@creighton.edu.</p>
ORGANIZER;CN=Marc Johansen:
METHOD:PUBLISH
END:VEVENT
END:VCALENDAR
