BEGIN:VCALENDAR
PRODID:-//Grails iCalendar plugin//NONSGML Grails iCalendar plugin//EN
VERSION:2.0
CALSCALE:GREGORIAN
METHOD:PUBLISH
BEGIN:VEVENT
DTSTAMP:20260421T163408Z
DTSTART;TZID=America/Chicago:20250425T090000
DTEND;TZID=America/Chicago:20250426T170000
SUMMARY:TEMPO 2025: A Modern Conference
UID:20260423T205305Z-iCalPlugin-Grails@philevents-web-6b96c54f56-bljdq
TZID:America/Chicago
LOCATION:37th and O Streets\, N.W.\, Washington\, D. C.\, United States\, 20057
DESCRIPTION:<p>The Traveling Early Modern Philosophy Organization (TEMPO) is now accepting paper abstracts for our April 25-26th\, 2025 conference to be held at Georgetown University in Washington\, D.C. Details\, programs from past iterations\, and other information can be found at http://tempo-conference.net</p>\n<p>We welcome papers on any aspect of Modern philosophy\, roughly understood as the period from Montaigne through Mill.&nbsp\;</p>\n<p>Submissions on Sor Juana In&eacute\;s de la Cruz and related figures\, methods\, and themes are particularly encouraged.</p>\n<p>Keynote Presentation: "Cavendish (and Aristotle and Augustine but not Hobbes) on Virtue" by Daniel Whiting (University of Southampton)</p>\n<p>Plenary Talks:&nbsp\;</p>\n<ul>\n<li>&ldquo\;Kant\, Epistemic Dependence\, and the Politics of Knowledge Production&rdquo\; by Huaping Lu-Adler (Georgetown University)</li>\n<li>&ldquo\;Shepherd on Mathematics&rdquo\; by Mait&eacute\; Cruz (Union College)</li>\n<li>&ldquo\;Time\, Mutability\, and Punishment in Conway&rdquo\; by Alejandro Naranjo Sandoval (University of California\, Davis)</li>\n</ul>\n<p><strong>Please note that there is a registration fee for the conference.</strong></p>\n<p>Charging this fee helps us to provide coffee and refreshments\, and\, in the future\, honoraria for plenary speakers\, awards and travel grants for some graduate student and limited term appointment presenters\,&nbsp\;<em>etc</em>.</p>\n<p>Registration can be paid onsite via card/contactless\, cash/check\, and apps like Venmo/PayPal/Zelle/Cash app. (Those latter being preferred.)&nbsp\;</p>\n<p>The organization will issue receipts. The fee amount varies by professional position. Please see the fee schedule below.</p>\n<p>Fee Schedule</p>\n<ul>\n<li>Participants without Institutional Travel Support: $0</li>\n<li>Graduate Students\, Unaffiliated Scholars\, and folks with Limited Term Appointments: $20</li>\n<li>Non-Tenure Track and Untenured Tenure-Track Professors: $50</li>\n<li>Associate Professors (and equivalent): $75</li>\n<li>Full Professors (and equivalent): $100</li>\n</ul>
ORGANIZER;CN=Virginia Sharpe;CN=Julie Walsh;CN=Annemarie Butler;CN=David Landy;CN=Louise Daoust;CN=James Mattingly;CN=Domenica Romagni;CN=Allauren Samantha Forbes:
METHOD:PUBLISH
END:VEVENT
END:VCALENDAR
