BEGIN:VCALENDAR
PRODID:-//Grails iCalendar plugin//NONSGML Grails iCalendar plugin//EN
VERSION:2.0
CALSCALE:GREGORIAN
METHOD:PUBLISH
BEGIN:VEVENT
DTSTAMP:20260422T114754Z
DTSTART;TZID=Europe/London:20250430T100000
DTEND;TZID=Europe/London:20250430T170000
SUMMARY:Seneca and Stoicism
UID:20260426T023250Z-iCalPlugin-Grails@philevents-web-6b96c54f56-bljdq
TZID:Europe/London
LOCATION:Senate House\, London\, United Kingdom\, WC1E 7HU
DESCRIPTION:<p>We are pleased to announce the programme for the fourth Royal Holloway Stoicism Workshop\, this time devoted to Seneca.&nbsp\;</p>\n<p>Seneca is the earliest Stoic for whom we have extensive literary remains and his works constitute the largest single body of ancient Stoic writing. His application and exploration of the practical side of Stoicism is evident in his extensive literary output\, which crosses a wide and ambitious range of genres. The richness of his writing has generated a similarly rich range of approaches to his work\, producing literary\, philosophical and reception scholarship exploring the Senecan corpus.</p>\n<p>This event is free and open to all\, with no registration necessary. It takes place in Room 2/3 of the Stewart House wing of Senate House\, which can be accessed via the main Senate House entrance\, up the grand staircase\, and turn left.&nbsp\;</p>\n<p><strong>Schedule</strong></p>\n<p><strong></strong>9.45-10.00 &ndash\; Arrival and Welcome&nbsp\;</p>\n<p>10.00-10.45 &ndash\; Lizzie Davis (Yale)\, &lsquo\;Personal Problems:&nbsp\;&ldquo\;Personae&rdquo\; and practical deliberation in Seneca&rsquo\;s&nbsp\;<em>De Beneficiis</em>'</p>\n<p>10.45-11.30 &ndash\; Kai Fang (Chicago)\, &lsquo\;Usus and Materia:&nbsp\;Seneca&rsquo\;s Roman Interpretation of Friendship as Indifferents&rsquo\;</p>\n<p>11.30-12.00 Tea/Coffee&nbsp\;</p>\n<p>12.00-12.45 &ndash\; Steven Kennedy (Harrow)\, &lsquo\;Seneca&rsquo\;s Fussy Philosophers: The Ethics of Stoic&nbsp\;<em>Otium</em>&rsquo\;</p>\n<p>12.45-2.00 &ndash\; Lunch&nbsp\;</p>\n<p>2.00-2.45 &ndash\; Fani Goutsiou (Durham)\, &lsquo\;The Educative Role of Dramatic Visualisation of Passions in Seneca&rsquo\;s Tragedies&rsquo\;</p>\n<p>2.45-3.30 &ndash\; Maximillian Biezenski (Queen&rsquo\;s)\, &lsquo\;Under the Guide of Harm: Seneca&rsquo\;s Theory of Aggression&rsquo\;</p>\n<p>3.30-4.00 &ndash\; Tea/Coffee&nbsp\;</p>\n<p>4.00-4.45 &ndash\; Sarah Byers (Boston)\, &lsquo\;Seneca and Stoic &ldquo\;Freedom from Social Vanity&rdquo\;&rsquo\;&nbsp\;</p>\n<p>4.45-5.30 &ndash\; Christelle Veillard (Paris)\, &lsquo\;Seneca and the Bonds of Humanity: Cross-readings of&nbsp\;<em>De beneficiis&nbsp\;</em>and&nbsp\;<em>Medea</em>&rsquo\;&nbsp\;</p>\n<p><br></p>
ORGANIZER;CN=John Sellars;CN=Liz Gloyn:
METHOD:PUBLISH
END:VEVENT
END:VCALENDAR
