BEGIN:VCALENDAR
PRODID:-//Grails iCalendar plugin//NONSGML Grails iCalendar plugin//EN
VERSION:2.0
CALSCALE:GREGORIAN
METHOD:PUBLISH
BEGIN:VEVENT
DTSTAMP:20260421T202819Z
DTSTART;TZID=America/Los_Angeles:20250228T090000
DTEND;TZID=America/Los_Angeles:20250228T170000
SUMMARY:Santa Clara University's 2025 Austin J. Fagothey Conference\, "Meeting at the Confluence of Environmental Ethics & Technology"
UID:20260424T093703Z-iCalPlugin-Grails@philevents-web-6b96c54f56-bljdq
TZID:America/Los_Angeles
LOCATION:Williman Room\, Benson Memorial Center\, Santa Clara\, United States\, 95050
DESCRIPTION:<p>Santa Clara University's Department of Philosophy's presents its annual&nbsp\;<strong>Fagothey Conference</strong>\, to be held on&nbsp\;<strong>Friday\, February 28th\, 2025.&nbsp\;</strong>The Fagothey Conference\, though firmly philosophical\, is geared toward an interdisciplinary audience and draws participation from faculty and students across Departments at SCU. The 2025 Fagothey Conference will be centered at the<strong>&nbsp\;intersection of environmental philosophy\, more-than-human (e.g.\, animal\, plant\, and fungi) ethics\, and the philosophy of technology</strong>&nbsp\;(&ldquo\;Meeting at the Confluence of Environmental Ethics &amp\; Technology&rdquo\;).</p>\n<p>Speakers and topics include:</p>\n<p>-&nbsp\;<strong>Jeff Sebo&nbsp\;</strong>(NYU): AI\, plant\, and animal minds&nbsp\;<br>-&nbsp\;<strong>Meica Magnani&nbsp\;</strong>(Northeastern): peak bagging &amp\; gamification<br>-&nbsp\;<strong>Yasha Rohwer&nbsp\;</strong>(Oregon Tech): gene-editing\, restoration\, and conservation&nbsp\;<br>-&nbsp\;<strong>Anncy Thresher&nbsp\;</strong>(Northeastern) : space ethics (including space junk &amp\; our cosmic commons)<br>-&nbsp\;<strong>Brian Burkhart</strong>&nbsp\;(The University of Oklahoma): indigenous approaches to emerging environmental technologies&nbsp\;</p>\n\n<p>To register\, please fill out the following form:&nbsp\;https://www.scu.edu/apps/events/public/?f=217&nbsp\;</p>
ORGANIZER;CN=Kimberly Dill:
METHOD:PUBLISH
END:VEVENT
END:VCALENDAR
