BEGIN:VCALENDAR
PRODID:-//Grails iCalendar plugin//NONSGML Grails iCalendar plugin//EN
VERSION:2.0
CALSCALE:GREGORIAN
METHOD:PUBLISH
BEGIN:VEVENT
DTSTAMP:20260420T102036Z
DTSTART;TZID=Europe/Paris:20140121T180000
DTEND;TZID=Europe/Paris:20140121T200000
SUMMARY:The world of the uncountable
UID:20260424T211537Z-iCalPlugin-Grails@philevents-web-f5d4878dd-nv7xt
TZID:Europe/Paris
LOCATION:Aix-en-Provence\, France
DESCRIPTION:<p>Henry Laycock (Queen's University\, Canada) will give a talk in Aix-en-Provence\, France\, on the 21th of January\, 17h.<br> <br> title &nbsp\;: "The world of the uncountable"<br> <br> Abstract :<br> The work of the linguist Otto Jespersen remains largely neglected by philosophers. Yet in his writings on what he calls &lsquo\;mass-words&rsquo\; and &lsquo\;thing words&rsquo\;\, Jespersen makes some deeply insightful observations on matters of great semantic and also metaphysical interest. Jespersen contrasts thing words (what he also calls &lsquo\;countables&rsquo\;) with mass-words (what he also calls &lsquo\;uncountables&rsquo\;)\, speaking of the latter as words for substances. He tells us that "Mass-words are totally different\, logically they are neither singular nor plural\, because what they stand for is not countable."&nbsp\; He also tells us that a distinctive logical form would be called for "when we left the world of countables (such as houses\, horses\, days\, miles\, sounds\, words\, crimes\, plans\, mistakes\, etc.) and got to the world of uncountables." Here I attempt to explain the significance of Jespersen&rsquo\;s remarks. I focus on three ideas: that of the world of the uncountable\, that of a &lsquo\;totally different logic&rsquo\;\, and that of the uncountable itself. These three ideas constitute the three parts of the work. The first part concerns the realm of the uncountable\, and distinguishes between ontology and the metaphysics of the life-world. Part two addresses the distinctive logical form of mass-words\, while part three addresses the nature of &lsquo\;uncountability&rsquo\;\, and explains what it is not.<br> <br> The talk will take place in Aix-Marseille University\, Maison de la Recherche\, Room 2.41.<br> see <a target="_blank">http://semaihp.blogspot.fr</a></p>
ORGANIZER:
METHOD:PUBLISH
END:VEVENT
END:VCALENDAR
