BEGIN:VCALENDAR
PRODID:-//Grails iCalendar plugin//NONSGML Grails iCalendar plugin//EN
VERSION:2.0
CALSCALE:GREGORIAN
METHOD:PUBLISH
BEGIN:VEVENT
DTSTAMP:20260421T063249Z
DTSTART;TZID=Europe/London:20250701T090000
DTEND;TZID=Europe/London:20250701T090000
SUMMARY:Passion
UID:20260422T142321Z-iCalPlugin-Grails@philevents-web-6b96c54f56-bljdq
TZID:Europe/London
DESCRIPTION:<p>Passion: Journal of the European Philosophical Society for the Study of Emotion</p>\n<p>Feminist Philosophy of Emotion Special Issue</p>\n<p>Call for Papers</p>\n<p>Following the excellent pre-conference workshop on Feminist Philosophy of Emotion at the 2024 EPSSE conference in Lisbon\, the call for papers for the special issue on this topic is now open!&nbsp\;</p>\n<p>This special issue aims to explore critical/feminist approaches to the philosophy of emotion. Our guest editors invite contributions that address\, but are not limited to\, the following topics:</p>\n<ul>\n<li>Embodiment and gendered emotional experience</li>\n<li>Power dynamics and emotions</li>\n<li>Feminist critiques of traditional theories of emotion</li>\n<li>Emotional labor and affective injustice</li>\n<li>The epistemic role of emotions under conditions of oppression</li>\n<li>Ethical implications of feminist perspectives on emotions</li>\n<li>Political implications of feminist perspectives on emotions</li>\n</ul>\n<p>&nbsp\; Confirmed contributors:<br><br> Arina Pismenny&nbsp\; Ronald de Sousa Laura Silva Marie Wuth Denish Jaswal &nbsp\; Editors: Laura Silva\, Federico Lauria\, and Arina Pismenny&nbsp\;</p>\n<p><br> <strong>Submissions:&nbsp\;</strong>6\,000 -&nbsp\;9\,000 words&nbsp\;in length (excl. references) and submitted via the journal&rsquo\;s submission system</p>
ORGANIZER:
METHOD:PUBLISH
END:VEVENT
END:VCALENDAR
