BEGIN:VCALENDAR
PRODID:-//Grails iCalendar plugin//NONSGML Grails iCalendar plugin//EN
VERSION:2.0
CALSCALE:GREGORIAN
METHOD:PUBLISH
BEGIN:VEVENT
DTSTAMP:20260425T171908Z
DTSTART;TZID=Europe/Berlin:20250621T090000
DTEND;TZID=Europe/Berlin:20250622T170000
SUMMARY:The NYC Early Modern Workshop in Berlin
UID:20260427T150910Z-iCalPlugin-Grails@philevents-web-6b96c54f56-bljdq
TZID:Europe/Berlin
LOCATION:Berlin\, Germany
ORGANIZER;CN=Reed Winegar;CN=Lauren Kopajtic;CN=Ohad Nachtomy:
METHOD:PUBLISH
END:VEVENT
END:VCALENDAR
