BEGIN:VCALENDAR
PRODID:-//Grails iCalendar plugin//NONSGML Grails iCalendar plugin//EN
VERSION:2.0
CALSCALE:GREGORIAN
METHOD:PUBLISH
BEGIN:VEVENT
DTSTAMP:20260425T191335Z
DTSTART;TZID=Europe/Berlin:20250310T230000
DTEND;TZID=Europe/Berlin:20250310T230000
SUMMARY:The NYC Early Modern Workshop in Berlin
UID:20260427T175558Z-iCalPlugin-Grails@philevents-web-6b96c54f56-bljdq
TZID:Europe/Berlin
LOCATION:Berlin\, Germany
DESCRIPTION:<p>Please submit abstracts (350-500 words) to newyorkcityearlymodern@gmail.com by March 10th\, 2025. Submissions in any area of early modern philosophy (roughly 1600-1800) are welcome.</p>
ORGANIZER;CN=Reed Winegar;CN=Lauren Kopajtic;CN=Ohad Nachtomy:
METHOD:PUBLISH
END:VEVENT
END:VCALENDAR
