BEGIN:VCALENDAR
PRODID:-//Grails iCalendar plugin//NONSGML Grails iCalendar plugin//EN
VERSION:2.0
CALSCALE:GREGORIAN
METHOD:PUBLISH
BEGIN:VEVENT
DTSTAMP:20260419T195425Z
DTSTART;TZID=Europe/Bucharest:20250228T180000
DTEND;TZID=Europe/Bucharest:20250228T180000
SUMMARY:LLM talk: the post-evolution of speech acts
UID:20260422T033734Z-iCalPlugin-Grails@philevents-web-f5d4878dd-nv7xt
TZID:Europe/Bucharest
LOCATION:Splaiul Independentei nr. 204\, Bucharest\, Romania\, 060024
DESCRIPTION:<p>This is an international conference\, held March 21-22\, 2025\, in hybrid format at the <strong>University of Bucharest</strong>\, Romania. A call for abstracts is below.</p>\n<p>The conference is part of <strong>"The&nbsp\;effects&nbsp\;of&nbsp\;LLM&nbsp\;interaction in digital and virtual environments on TOM"</strong> ICUB grant in enhancing institutional performance at the University of Bucharest\, gathering a research team from Philosophy\, Linguistics\, Cognitive Psychology and Evolutionary Biology.</p>\n<p>A twin conference\, "<strong>New Work in the Theory of Mind 2: interacting with large language models</strong>"\, held March 21-22 still\, devoted to graduate students\, postdocs and early career scholars\, is organized in partnership between the Faculty of Philosophy and the Faculty of Psychology and Education Science\, through its Department for Cognitive Science. More details about that event\, including a call for abstracts for students and early career scholars\, is here: <a href="show/132170">https://philevents.org/event/show/132170</a></p>\n<p>Both conferences target the post-evolutionary roles speech acts exhibit\, starting from producing and decoding speech acts\, to how we interpret the <strong>seemingly communicative behaviour of large language models\, with a focus on social contexts </strong>that usually rely on mindreading (e.g. empathetic chats with bots).</p>\n<p>The conference will have a&nbsp\;<strong>mixed format</strong>\, in that speakers may choose whether they present online only or face to face at the event's location (if so\, their session will enjoy a live audience\, but it will also be streamed to remote participants). Regular presentations will be 30 minutes long\, followed by 10 minutes long Q&amp\;A and 10 minutes breaks.</p>\n<p>The conference comes on the heels of <strong>"The Evolutionary Origins of Speech Acts"</strong> international hybrid workshop\, held May 17th\, 2023\, with keynotes Mitch&nbsp\;Green (Connecticut) and Bart&nbsp\;Geurts (Radboud). More details about that event here: <a href="show/109005">https://philevents.org/event/show/109005</a> Professor Green has confirmed attendance as a <strong>keynote </strong>speaker in the 2025 events too.</p>\n<p><strong>Panels </strong>include<strong>: </strong></p>\n<p>&middot\;&nbsp\;&nbsp\;&nbsp\;&nbsp\;&nbsp\;&nbsp\;&nbsp\; Do machines mean anything\, and if so\, what might that be?</p>\n<p>&middot\;&nbsp\;&nbsp\;&nbsp\;&nbsp\;&nbsp\;&nbsp\;&nbsp\; Are machines capable of assertion?</p>\n<p>&middot\;&nbsp\;&nbsp\;&nbsp\;&nbsp\;&nbsp\;&nbsp\;&nbsp\; How does human dialogue and the human-machine dialogue differ?&nbsp\; - game theory approaches</p>\n<p>&middot\;&nbsp\;&nbsp\;&nbsp\;&nbsp\;&nbsp\;&nbsp\;&nbsp\; Can LLMs decode/ grasp speech acts of refusals and complaints in VR?</p>\n<p>&middot\;&nbsp\;&nbsp\;&nbsp\;&nbsp\;&nbsp\;&nbsp\;&nbsp\; Game theory approaches to the use of indirect speech acts</p>\n<p>&middot\;&nbsp\;&nbsp\;&nbsp\;&nbsp\;&nbsp\;&nbsp\;&nbsp\; Alternatives and variability in pragmatic inferences</p>\n<p><strong>Call for abstracts</strong></p>\n<p>We encourage researchers at all levels to contribute abstracts related to ongoing and recent approaches to LLM-related speech acts and/or how these relate (or shift) the evolutionary origins of communicative acts.</p>\n<p>Abstracts should be written in English and should not exceed&nbsp\;<strong>300 words</strong> (excluding references).&nbsp\;Abstracts will receive full consideration if sent before February 20th to <a href="mailto:andrei.marasoiu@filosofie.unibuc.ro">andrei.marasoiu@filosofie.unibuc.ro</a> as PDF attachments with the message titled "Speech acts 2\, abstract submission". They will go through blind peer review from a local scientific committee. (Identifying details in the email body\, abstract anonymized.) Notifications of acceptance to be sent out on March 1st.</p>\n<p>For any questions\, email&nbsp\;<a href="mailto:andrei.marasoiu@filosofie.unibuc.ro">andrei.marasoiu@filosofie.unibuc.ro</a> Non-speakers<strong> register</strong> at the same address on or before March 10th to receive Zoom details.</p>
ORGANIZER;CN="Andrei Mărăşoiu":
METHOD:PUBLISH
END:VEVENT
END:VCALENDAR
