BEGIN:VCALENDAR
PRODID:-//Grails iCalendar plugin//NONSGML Grails iCalendar plugin//EN
VERSION:2.0
CALSCALE:GREGORIAN
METHOD:PUBLISH
BEGIN:VEVENT
DTSTAMP:20260425T193903Z
DTSTART;TZID=Europe/Bucharest:20250322T090000
DTEND;TZID=Europe/Bucharest:20250323T170000
SUMMARY:Rethinking ToM and ASD
UID:20260427T183203Z-iCalPlugin-Grails@philevents-web-6b96c54f56-bljdq
TZID:Europe/Bucharest
LOCATION:Splaiul Independentei nr. 204\, Bucharest\, Romania
DESCRIPTION:<p>The "Rethinking ToM and ASD" student conference aims to bring together students and researchers in philosophy of mind\, cognitive science\, linguistics\, social cognition\, developmental psychology\, in order to advance our understanding of the role that theory of mind (ToM) plays in explaining social interaction difficulties in autism (if any). Our goal is to explore new approaches to ToM and analyze the ways in which these might bear on the theoretical and methodological paradigms for autism.</p>\n<p>The conference is part of "The effects of LLM interaction in digital and virtual environments on TOM" ICUB grant in enhancing institutional performance at the University of Bucharest\, gathering a research team from Philosophy\, Linguistics\, Cognitive Psychology and Evolutionary Biology.</p>\n<p>The conference is organized with the support of undergraduate students in the Bachelor&rsquo\;s programme in cognitive science within the Faculty of Psychology and Educational Science at the University of Bucharest and with the support of graduate students in the doctoral school of theoretical philosophy within the Department for Theoretical Philosophy at the University of Bucharest.</p>\n<p>The conference will take place&nbsp\;on 22-23 March 2025\, between 9 AM- 9 PM\, local time for Bucharest\, Romania. Regular presentations will be 20 minutes long\, followed by 10 minutes long Q&amp\;A.</p>\n<p>It will have a mixed format\, in that speakers may choose whether they present online only or face to face at the event's location (if so\, their session will enjoy a live audience\, but it will also be streamed to remote participants).</p>\n<p><strong>Program</strong></p>\n<p><strong>Saturday\, March 22nd 2025</strong></p>\n<p>*The time slots correspond to Bucharest time zone\, CET +1</p>\n<p><strong>Chair: Lorin Isac</strong></p>\n<p>10:00 -10:30 <strong>Radu Nedescu</strong> (<em>KU Leuven alumnus</em>). <em>Conceptualising the double empathy problem through the lens of enactivism and intercorporeality.</em></p>\n<p>10:30-11:00 <strong>Mauro Lenti</strong> (Universit&agrave\; di Torino). <em>An Atmosphere of Affordances: Rethinking ASD beyond Theory of Mind</em></p>\n<p>11:00-12:00 <strong>Keynote address</strong>: <strong>Daniel Hutto</strong> (University of Wollongong). <em>Understanding Autistic Individuals: What&rsquo\;s ToM got to do with it?</em></p>\n<p>12:00-12:30 <strong>Afra M. Montero R&iacute\;os</strong> (Institute Jean Nicod\, ENS-PSL).<em> Read the room!</em></p>\n<p>12:30-15:00 <strong>Lunch Break</strong></p>\n<p><strong>Chair: </strong><strong>Maria Tudoroiu</strong><strong></strong></p>\n<p>15:00-15:30 <strong>Chiara Dankl</strong> (University of Vienna). <em>Beyond Empathy: Exploring the Epistemological Potential of ASD Cognition in Understanding Self and Other.</em></p>\n<p>15:30-16:00 <strong>Joe Gough</strong> (University of Oxford). <em>The Theory of Mind Theory of Autism.</em></p>\n<p>16:00-16:30 <strong>Elena Georgiana Ro</strong><strong>ş</strong><strong>u</strong><em></em>(University of Bucharest\, Faculty of Psychology and Educational Science)<em>.</em><em>Who&rsquo\;s Failing to Understand? Rethinking Social Cognition in Autism</em></p>\n<p>16:30-17:00<strong> Nicolas Huline</strong> (Universit&eacute\; Libre de Bruxelles). <em>False belief tasks and contextualised mental states talks</em></p>\n<p><strong>17:00-17:30 Break</strong></p>\n<p>17:30-18:00 <strong>Emily Kotow</strong> (University of Ottawa). <em>Embracing the Continuum\; A Critique of Simulation Theory via Autism Spectrum Disorders.</em></p>\n<p>18:00-18:30 <strong>Anna Alessandra Nicoletta Cruz Yu</strong> and <strong>Hannah Hao</strong> (Icahn School of Medicine at Mount Sinai\, New York\, USA). <em>Perceived Control in Uncontrollable Social Contexts: Contributions of Cognitive Empathy\, Social Skills\, and Affiliative Behavior in Autism Spectrum Disorder </em>(co-authored with Jennifer Foss-Feig\, Xiaosi Gu\, Daniela Schiller).</p>\n<p><strong>Sunday\, March 23rd</strong></p>\n<p><strong>Chair:</strong><strong>Teodora-Maria Neagoe</strong><strong></strong></p>\n<p>09:30-10:00 <strong>Mihaela Dr</strong><strong>ă</strong><strong>goi</strong> (University of Bucharest\, Faculty of Philosophy). <em>&rdquo\;Virtual autism&rdquo\; &ndash\; a new problem in the digital age.</em></p>\n<p>10:00-10:30 <strong>Ivo Valkov</strong> (Sofia University). <em>Is Time an Axiom? Rethinking Its Foundations in Metaphysics and Physics</em></p>\n<p>10:30-11:00 <strong>Luca Di Vincenzo</strong> (Sapienza University of Rome). <em>Theory of Mind and Autism Spectrum Disorder: Toward a Multimodal Constraint Hypothesis</em></p>\n<p>11:00-11:30 <strong>Volodymyr Tymoshenko </strong>(University of Bucharest\, Faculty of Philosophy). <em>Autistic experiences with deception in everyday life and games.</em><em></em></p>\n<p>11:30- 12:00<strong> Round table and concluding remarks (moderated by Teodora-Maria Neagoe\, Maria Tudoroiu</strong> and <strong>Lorin Isac)</strong><strong></strong></p>
ORGANIZER;CN=Sandra-Catalina Branzaru;CN=Lorin Isac;CN=Maria Tudoroiu;CN=Teodora-Maria Neagoe:
METHOD:PUBLISH
END:VEVENT
END:VCALENDAR
