BEGIN:VCALENDAR
PRODID:-//Grails iCalendar plugin//NONSGML Grails iCalendar plugin//EN
VERSION:2.0
CALSCALE:GREGORIAN
METHOD:PUBLISH
BEGIN:VEVENT
DTSTAMP:20260425T200620Z
DTSTART;TZID=Europe/London:20250227T140000
DTEND;TZID=Europe/London:20250227T153000
SUMMARY:Julia Steinberger: Living Well within Planetary Limits
UID:20260427T190533Z-iCalPlugin-Grails@philevents-web-6b96c54f56-bljdq
TZID:Europe/London
DESCRIPTION:<p><strong>Living Well within planetary limits\; 27 February 2025 &ndash\; 14h00-15h30 CET</strong></p>\n<p>Prof. Julia Steinberger (Lausanne) teaches in the interdisciplinary areas of Ecological Economics and Industrial Ecology. Her research examines the connections between resource use (energy and materials\, greenhouse gas emissions) and societal performance (economic activity and human wellbeing).</p>\n<p>Prof. Steinberger has been Professor of Societal Challenges of Climate Change at the University of Lausanne since 2020. Previously\, she worked at the University of Leeds. For her research project &lsquo\;Living Well Within Limits&rsquo\;\, which investigated how universal human well-being might be achieved within planetary boundaries\, she received the Leverhulme Research Leadership Award.</p>\n<p>To register for this online event\, please use this registration form: https://forms.office.com/e/qp9A3AGV9T</p>\n<p>Any additional questions about the Vision Speaker Series\, please email Catarina Neves at a.c.moiteirodasneves@uu.nl</p>
ORGANIZER;CN=Catarina Neves:
METHOD:PUBLISH
END:VEVENT
END:VCALENDAR
