BEGIN:VCALENDAR
PRODID:-//Grails iCalendar plugin//NONSGML Grails iCalendar plugin//EN
VERSION:2.0
CALSCALE:GREGORIAN
METHOD:PUBLISH
BEGIN:VEVENT
DTSTAMP:20260425T165815Z
DTSTART;TZID=America/New_York:20140411T050000
DTEND;TZID=America/New_York:20140413T130000
SUMMARY:Research Workshop on Logical and Modal Space
UID:20260427T144834Z-iCalPlugin-Grails@philevents-web-6b96c54f56-bljdq
TZID:America/New_York
LOCATION:5 Washington Place\, New York\, United States\, 10003
DESCRIPTION:<p>Attendees are encouraged to familiarize themselves with selected background readings in advance of the workshop. For these readings and for a preliminary program\, please visit the workshop website. &nbsp\; If you would like to attend the workshop\, please register by emailing Jeremy Goodman (jg3639@nyu.edu) or Peter Fritz (peter.fritz@philosophy.ox.ac.uk). There is no registration fee\, and all are welcome.&nbsp\;</p>
ORGANIZER;CN=Peter Fritz;CN=Jeremy Goodman:
METHOD:PUBLISH
END:VEVENT
END:VCALENDAR
