BEGIN:VCALENDAR
PRODID:-//Grails iCalendar plugin//NONSGML Grails iCalendar plugin//EN
VERSION:2.0
CALSCALE:GREGORIAN
METHOD:PUBLISH
BEGIN:VEVENT
DTSTAMP:20260422T071258Z
DTSTART;TZID=Europe/London:20250421T230000
DTEND;TZID=Europe/London:20250421T230000
SUMMARY:The Shifting Politics of Commercial Culture
UID:20260425T115554Z-iCalPlugin-Grails@philevents-web-6b96c54f56-bljdq
TZID:Europe/London
LOCATION:Manchester\, United Kingdom
DESCRIPTION:<p><strong>Deadline&nbsp\;</strong>for abstract submission<strong>:&nbsp\;April 21st\, 2025</strong></p>\n<p>In recent years\, corporations and their CEOs have increasingly taken political stances on divisive issues such as #MeToo and #BlackLivesMatter. The practice has been termed&nbsp\;corporate political advocacy (CPA)&nbsp\;(Baur and Wettstein 2016)\, corporate social advocacy&nbsp\;(Abitbol et al. 2018\; Dodd and Supa 2014)\,&nbsp\;brand activism&nbsp\;(Cammarota et al. 2023)\,&nbsp\;or CEO activism&nbsp\;(Branicki et al. 2021\; Chatterji and Toffel 2019\; Feix and Wernicke 2024). Academic debate focusses on defining the criteria for legitimate CPA emphasizing the need to avoid &ldquo\;woke-washing&rdquo\;&nbsp\;(e.g. Vredenburg et al. 2020)&nbsp\;and ensure&nbsp\;integrity (e.g.&nbsp\;Wettstein and Baur 2016).</p>\n<p>Last months\, a growing&nbsp\;backlash&nbsp\;against progressive corporate activity has emerged. Conservative figures like&nbsp\;Robert Starbuck&nbsp\;and investors like&nbsp\;Vivek Ramaswamy have pressured major corporations\, including&nbsp\;Disney\, Apple\, and McDonald&rsquo\;s\, to&nbsp\;roll back ESG and DEI policies.&nbsp\;What began as resistance to progressive engagement could escalate into demanding corporations to adopt overtly conservative positions\, which has become more plausible now that business leaders like&nbsp\;Elon Musk started to use openly&nbsp\;endorse conservative policies and candidates.</p>\n<p>As it becomes more prominent\, conservative advocacy cannot be treated as an afterthought\, as nothing more than a reactionary market correction excluded from CPA definitions. The shift raises key questions about how CPA legitimacy is assessed: if both progressive and conservative activism are ideological expressions of the same phenomenon\, frameworks must evaluate CPA through procedural and deliberative criteria rather than ideological content.&nbsp\;This panel welcomes theoretical\, normative\, and empirical approaches from political theory\, philosophy\, law\, economics\, and communication studies that critically examine CPA beyond ideology and assess implications of both its forms for democratic governance.&nbsp\;</p>\n<p>Possible&nbsp\;<strong>topics</strong>&nbsp\;include\, but are not limited to\, the following:</p>\n<ul>\n<li>The challenge posed by conservative activism to prevailing theories of CPA</li>\n<li>The differentiation between progressive and conservative forms of corporate activism &nbsp\;</li>\n<li>Developing frameworks for assessing the legitimacy of CPA independent of ideological bias &nbsp\;</li>\n<li>Comprehensive frameworks for evaluating the legitimacy of various forms of corporate involvement\, including lobbying\, CSR\, and CPA&nbsp\;</li>\n<li>CPA and the traditional division of labor between politics and the market</li>\n<li>The impact of corporate political activism on democratic ideals and public discourse &nbsp\;</li>\n<li>Insights from the rise of conservative advocacy on political representation\, political freedom\, and stakeholder interests&nbsp\;</li>\n<li>Democratic analyses of conservative corporate activism (amplifying marginalised voices versus reinforcing dominant interests)</li>\n<li>The role of ownership structures and internal corporate democracy in legitimising CPA &nbsp\;</li>\n<li>The relationship between corporate purpose and CPA</li>\n<li>Empirical analyses on the reciprocal effects between consumer movements and corporate political activism on public attitudes and societal change&nbsp\;</li>\n</ul>\n<p><strong>Submission Guidelines</strong></p>\n<p>If you want to apply\, please submit an abstract (approximately 500 words) along with 3-5 keywords and a short bio (approximately 300 words) by email to&nbsp\;(Roxan.Degeyter@kuleuven.be)\,&nbsp\;by&nbsp\;April 21st&nbsp\;2025. Decisions will be made by&nbsp\;May 19th\, allowing those who have been accepted to apply to&nbsp\;MANCEPT&nbsp\;for a bursary (the deadline for which is&nbsp\;June 4th).</p>\n<p>Upon acceptance\, speakers will be asked to share their papers amongst participants two weeks before the workshop. We plan to allocate around 60 minutes to each paper\, with presentations of 15 minutes and 45 minutes of Q&amp\;A.</p>
ORGANIZER;CN=Roxan Degeyter:
METHOD:PUBLISH
END:VEVENT
END:VCALENDAR
