BEGIN:VCALENDAR
PRODID:-//Grails iCalendar plugin//NONSGML Grails iCalendar plugin//EN
VERSION:2.0
CALSCALE:GREGORIAN
METHOD:PUBLISH
BEGIN:VEVENT
DTSTAMP:20260420T170215Z
DTSTART;TZID=Europe/London:20261002T090000
DTEND;TZID=Europe/London:20261002T090000
SUMMARY:Concerned Philosophers for Peace\, Bill Gay Award 
UID:20260421T050516Z-iCalPlugin-Grails@philevents-web-f5d4878dd-nv7xt
TZID:Europe/London
DESCRIPTION:<p>The Bill Gay Award is for an early career scholar (scholar who is within 6 years of receiving a terminal degree) who has demonstrated their commitment to engaging with peace\, peace studies\, and peace and justice scholarship or activism. To be eligible for the award\, the scholar must submit a full paper (5-7K words) and a CV or letter illustrating their commitment to engaging with peace\, peace studies\, and peace and justice scholarship or activism.</p>\n<p>Submit to CPP Executive Director Kate C.S. Schmidt (<a href="mailto:kschmi37@msudenver.edu">kschmi37@msudenver.edu</a>) with &ldquo\;Bill Gay Award&rdquo\; in the subject line by the noted due date.</p>\n<p>All submissions will be blind reviewed by the CPP awards committee. The award will be announced at the annual CPP conference by the awards committee chair. It comes with a $2000 prize\, formal certificate of recognition\, and paper publication (subject to editorial approval) in the scholarly\, peer-reviewed journal <em>The Acorn: Philosophical Studies in Pacifism and Nonviolence</em>. Winners will be invited to present at the annual CPP conference.</p>\n<p>Many thanks to Dr. Bill Gay\, long-time CPP member\, contributor\, and activist scholar for peace and justice. His generous financial support is the backbone of this prestigious award\, and CPP hopes that awardees will follow in Dr. Gay&rsquo\;s illustrious footsteps as lifelong champions for a more just and more peaceful world.</p>
ORGANIZER:
METHOD:PUBLISH
END:VEVENT
END:VCALENDAR
