BEGIN:VCALENDAR
PRODID:-//Grails iCalendar plugin//NONSGML Grails iCalendar plugin//EN
VERSION:2.0
CALSCALE:GREGORIAN
METHOD:PUBLISH
BEGIN:VEVENT
DTSTAMP:20260420T024924Z
DTSTART;TZID=Europe/London:20241001T120000
DTEND;TZID=Europe/London:20261026T170000
SUMMARY:In Conversation: Exploring the Philosophy of Money and Finance
UID:20260423T111615Z-iCalPlugin-Grails@philevents-web-f5d4878dd-nv7xt
TZID:Europe/London
DESCRIPTION:<p><strong>In Conversation: Exploring the Philosophy of Money and Finance &ndash\; Series III</strong></p>\n<p>A series of interviews with contributors to <em><strong>The Philosophy of Money and Finance</strong></em> (Hardcover\, OUP 2024\; Paperback\, fall 2025)</p>\n<p><strong>Schedule</strong></p>\n<p><strong>"Truth in Financial Accounting"</strong><br>Author: Christopher J. Cowton (Emeritus\, University of Huddersfield)<br>Interviewer: Lisa Warenski (CUNY Graduate Center)<br>Date and Time: 15 January 2026\, 18:00 CET</p>\n<p><strong>"Green Central Banking"</strong>&nbsp\;<br>Authors: Peter Dietsch (University of Victoria)\; Cl&eacute\;ment Fontan (University of Louvain)<br>Interviewer: Jens van't Klooster<br>Date and Time: 25 March 2026\, 18:00 CET</p>\n<p><strong>"On the Wrongfulness of Bank Contributions to Financial Crises"</strong><br>Author:&nbsp\;Richard End&ouml\;rfer (University of Gothenburg)<br>Interviewer: Kobi Finestone (Univeresity of San Diego)<br>Date and Time: 01 June 2026\, 18:00 CET</p>\n<p><strong>"Bitcoins Left and Right: A Normative Assessment of a Digital Currency"<br></strong>Authors: Lars Lindblom and Joakim Sandberg<br>Interviewer: TBA<br>Date and Time: September (TBA) 2026\, 18:00 CET</p>
ORGANIZER;CN=Lisa Warenski;CN=Emiliano Ippoliti:
METHOD:PUBLISH
END:VEVENT
END:VCALENDAR
