BEGIN:VCALENDAR
PRODID:-//Grails iCalendar plugin//NONSGML Grails iCalendar plugin//EN
VERSION:2.0
CALSCALE:GREGORIAN
METHOD:PUBLISH
BEGIN:VEVENT
DTSTAMP:20260423T015853Z
DTSTART;TZID=Europe/London:20140402T050000
DTEND;TZID=Europe/London:20140403T130000
SUMMARY:Ethics\, Museums and Archaeology
UID:20260428T073000Z-iCalPlugin-Grails@philevents-web-6b96c54f56-bljdq
TZID:Europe/London
LOCATION:Oxford\, United Kingdom
DESCRIPTION:<p>This AHRC-funded workshop\, generously sponsored by the Ashmolean Museum\, is&nbsp\;organised within the framework of an AHRC-funded Research Network Group project on &lsquo\;The Ethics and Aesthetics of Archaeology&rsquo\;:&nbsp\;https://www.dur.ac.uk/philosophy/research/research_projects/aes.eth.arch/</a></p>\n\n<p>This&nbsp\;wider project&nbsp\;brings together philosophers\, archaeologists and museum and heritage practitioners in order to focus on the relation between ethics and aesthetics\, and explore how this relation shapes the&nbsp\;understanding and practice of archaeological stewardship.&nbsp\;The main premise underlying our multidisciplinary project is the idea that research into the ethics of stewardship&nbsp\;(including moral obligations\, duties and respect) will be enhanced significantly by an&nbsp\;increased understanding of the role played by&nbsp\;the&nbsp\;aesthetic character of historical objects in&nbsp\;influencing the moral relations we have with them and their makers.</p>\n\n<p>The project is directed by Prof. Elisabeth Schellekens Dammann (Philosophy\, Uppsala &amp\; Durham) and Dr Robin Skeates (Archaeology\, Durham). They are assisted by Dr Andreas Pantazatos (Co-Director of the Centre for the Ethics of Cultural Heritage &amp\; Philosophy\, Durham).</p>\n\n<p><strong>Keynote speaker</strong></p>\n<p>Prof. Ivan Gaskell (Bard Graduate Center\, New York)</p>\n\n<p><strong>Other speakers</strong></p>\n<p>Dr Anna Bergqvist (Philosophy\, MMU)</p>\n<p>Dr Piotr Bienkowski (Culture\, Heritage\, Museums)</p>\n<p>Sir Mark Jones (St. Cross College\, Oxford University)</p>\n<p>Dr Janet Marstine (Museum Studies\, Leicester)</p>\n<p>Dr Andreas Pantazatos (Philosophy\, Durham)</p>\n<p>Prof. Constantine Sandis (Philosophy\, Oxford Brookes University)</p>\n<p>Prof. Geoffrey Scarre (Philoosphy\, Durham)</p>\n<p>Prof. Peter Stone (School of Arts and Cultures\, Newcastle University)</p>\n<p>Prof. Janet Ulph (Law\, Leicester University)</p>\n<p>Dr Susan Walker (Ashmolean Museum\, University of Oxford)</p>\n<p><strong><br> </strong></p>\n<p><strong>Workshop programme</strong></p>\n<p>Our intention is to give this workshop an informal &lsquo\;work-in-progress feel\, with short presentations from invited presenters and plenty of time for questions and discussions.</p>\n<p><strong>&nbsp\;</strong></p>\n<p><strong>Wednesday 2nd April</strong></p>\n\n\n\n\n<p>14.30-14.35</p>\n\n\n<p>Welcome</p>\n\n\n<p>Prof. Elisabeth Schellekens Dammann (Philosophy\, Uppsala &amp\; Durham Universities) and Dr. Robin Skeates (Archaeology\, Durham University)</p>\n\n\n\n\n<p>14.35-14.45</p>\n\n\n<p>Introduction</p>\n\n\n<p>Dr. Susan Walker (Ashmolean Museum\, Oxford University)</p>\n\n\n\n\n<p><strong>Session 1</strong></p>\n\n\n\n\n\n\n\n\n\n\n<p>14.45-15.45</p>\n\n\n<p>Key-note presentation: Stewardship and the Life of Things</p>\n\n\n<p>Prof. Ivan Gaskell (Bard Graduate Center\, New York)</p>\n\n\n\n\n<p>15.45-16.15</p>\n\n\n<p><em>Discussion</em></p>\n\n\n\n\n\n\n\n<p>16.15-16.45</p>\n\n\n<p>Rethinking Museum Ethics</p>\n\n\n<p>Dr. Janet Marstine (Museum Studies\, Leicester University)</p>\n\n\n\n\n<p>16.45-17.00</p>\n\n\n<p><em>Discussion</em></p>\n\n\n\n\n\n\n\n<p><strong>&nbsp\;</strong></p>\n<p><strong>Thursday 3rd April</strong></p>\n\n\n\n\n<p>09.30-09.45</p>\n\n\n<p>Welcome and summary of Wednesday&rsquo\;s discussions</p>\n\n\n<p>Dr. Andreas Pantazatos&nbsp\; (Philosophy\, Durham University)</p>\n\n\n\n\n<p><strong>Session 2</strong></p>\n\n\n\n\n\n\n\n\n\n\n<p>09.45-10.15</p>\n\n\n<p>Value and Perspective in the New Museum</p>\n\n\n<p>Anna Bergqvist (Philosophy\, Manchester Metropolitan University)</p>\n\n\n\n\n<p>10.15-10.30</p>\n\n\n<p><em>Discussion</em></p>\n\n\n\n\n\n\n\n<p>10.30-10.45</p>\n\n\n<p>Tea/coffee</p>\n\n\n\n\n\n\n\n<p>10.45-11.15</p>\n\n\n<p>Ethical Decision Making in Museums: Who is Involved\, and Who Decides?</p>\n\n\n<p>Dr. Piotr Bienkowski (Culture\, Heritage\, Museums)</p>\n\n\n\n\n<p>11.15-11.30</p>\n\n\n<p><em>Discussion</em></p>\n\n\n\n\n\n\n\n<p>11.30-12.00</p>\n\n\n<p>Restitution: Righting Wrongs or Slippery Slope?</p>\n\n\n<p>Sir Mark Jones (St. Cross College\, Oxford University)</p>\n\n\n\n\n<p>12.00-12.15</p>\n\n\n<p><em>Discussion</em></p>\n\n\n\n\n\n\n\n<p>12.15-13.00</p>\n\n\n<p>Lunch</p>\n\n\n\n\n\n\n\n<p><strong>Session 3</strong></p>\n\n\n\n\n\n\n\n\n\n\n<p>13.00-13.30</p>\n\n\n<p>The Significance of Public Trust</p>\n\n\n<p>Prof. Janet Ulph (Law\, Leicester University)</p>\n\n\n\n\n<p>13.30-13.45</p>\n\n\n<p><em>Discussion</em></p>\n\n\n\n\n\n\n\n<p>13.45-14.15</p>\n\n\n<p>The Ethics of Trusteeship and the Limits of Stewardship</p>\n\n\n<p>Dr. Andreas Pantazatos (Philosophy\, Durham University)</p>\n\n\n\n\n<p>14.15-14.30</p>\n\n\n<p><em>Discussion</em></p>\n\n\n\n\n\n\n\n<p>14.30-15.00</p>\n\n\n<p>Stewardship and the Dead</p>\n\n\n<p>Prof. Geoffrey Scarre (Philosophy\, Durham University)</p>\n\n\n\n\n<p>15.00-15.15</p>\n\n\n<p><em>Discussion</em></p>\n\n\n\n\n\n\n\n<p>15.15-15.30</p>\n\n\n<p>Tea/coffee</p>\n\n\n\n\n\n\n\n<p><strong>Session 4</strong></p>\n\n\n\n\n\n\n\n\n\n\n<p>15.30-16.00</p>\n\n\n<p>Cultural Property\, Ethics and the Military</p>\n\n\n<p>Prof. Peter Stone (School of Arts and Cultures\, Newcastle University)</p>\n\n\n\n\n<p>16.00-16.15</p>\n\n\n<p><em>Discussion</em></p>\n\n\n\n\n\n\n\n<p>16.15-16.45</p>\n\n\n<p>Culture\, Heritage and Ethics</p>\n\n\n<p>Prof. Constantine Sandis (Philosophy\, Oxford Brookes University)</p>\n\n\n\n\n<p>16.45-17.00</p>\n\n\n<p><em>Discussion</em></p>\n\n\n\n\n\n\n\n<p><strong><br> </strong></p>\n<p><strong><br> </strong></p>\n<p>The workshop is open to all. It will be of particular interest to philosophers\, archaeologists and museum/heritage practitioners.</p>\n\n<p>If you would like to attend\, we would be grateful if you would let us know\, by sending an email to Elisabeth Schellekens Dammann&nbsp\;<a target="_blank">elisabeth.schellekens@durham.ac.uk</a>&nbsp\;</p>\n<br> \n<p><strong>Thank you to our sponsors</strong></p>\n\n<p>This is an AHRC-funded workshop\, generously sponsored by the University of Oxford&rsquo\;s Ashmolean Museum.</p>
ORGANIZER:
METHOD:PUBLISH
END:VEVENT
END:VCALENDAR
