BEGIN:VCALENDAR
PRODID:-//Grails iCalendar plugin//NONSGML Grails iCalendar plugin//EN
VERSION:2.0
CALSCALE:GREGORIAN
METHOD:PUBLISH
BEGIN:VEVENT
DTSTAMP:20260422T112229Z
DTSTART;TZID=America/New_York:20250615T130000
DTEND;TZID=America/New_York:20250615T130000
SUMMARY:A Population Doctrine in Neuroscience Workshop
UID:20260425T235814Z-iCalPlugin-Grails@philevents-web-6b96c54f56-bljdq
TZID:America/New_York
LOCATION: University of Pittsburgh\, 4200 Fifth Avenue\, Pittsburgh\, United States\, 15260
DESCRIPTION:<p>A Population Doctrine in Neuroscience Workshop (Call for Papers)</p>\n<p>We are pleased to announce an interdisciplinary 2-day workshop held at the Center for Philosophy of Science at the University of Pittsburgh. The workshop will focus on topics related to a shift in neuroscience from the investigation of single neurons to populations of neurons. The investigation of single neurons has been supported by the so-called neuron doctrine\, which posits the neuron as the fundamental structural and functional unit of the nervous system. As the focus moves away from single neurons and toward populations of neurons\, some have called for a new\, population doctrine. But the conceptual and methodological commitments of a potential population doctrine\, as well as its significance\, remain underexplored.</p>\n<p>The goal of the workshop is to arrive at an interdisciplinary perspective on the nature and significance of the population doctrine and its relation to what came before. In particular\, we aim to bring neuroscientists\, philosophers\, and historians together to answer the following questions:</p>\n<p>● What is the population doctrine? How is it related to the neuron doctrine?</p>\n<p>● What are the conceptual\, explanatory\, ontological\, and methodological commitments of the population doctrine? For example\,</p>\n<ul>\n<li>Are population level measures and analyses simply providing a more compactrepresentation of neural activity or are they providing unique insights that are not otherwise accessible?</li>\n<li>What are the explanatory advantages of population measures over single-unit measures?</li>\n<li>Does the form of explanation change or is the population doctrine just "more of the same"?</li>\n</ul>\n<p>Conference Dates: October 25th and 26th\, 2025</p>\n<p>Location: Center for Philosophy of Science\, University of Pittsburgh\, Pittsburgh\, PA</p>\n<p>Format: In addition to the keynote lectures\, the workshop will include 30 minute (20 minutes + 10 Q&amp\;A) presentations from contributed speakers and a roundtable panel discussion.</p>\n<p>Instructions for Submissions: Please prepare anonymized abstracts of no more than 500 words (excluding references) to be sent to&nbsp\;<strong>populationworkshop@gmail.com</strong>&nbsp\;by June 15th.</p>
ORGANIZER;CN=Edouard Machery:
METHOD:PUBLISH
END:VEVENT
END:VCALENDAR
