BEGIN:VCALENDAR
PRODID:-//Grails iCalendar plugin//NONSGML Grails iCalendar plugin//EN
VERSION:2.0
CALSCALE:GREGORIAN
METHOD:PUBLISH
BEGIN:VEVENT
DTSTAMP:20260423T160500Z
DTSTART;TZID=Europe/Athens:20250610T101500
DTEND;TZID=Europe/Athens:20250610T170000
SUMMARY:Book Workshop: “The Constitution of Science”\, C. Mantzavinos
UID:20260429T234835Z-iCalPlugin-Grails@philevents-web-6b96c54f56-bljdq
TZID:Europe/Athens
LOCATION:Kostis Palamas building\, 48 Akadimias Str\, Athens\, Greece\, 105 62 
DESCRIPTION:<p><strong>Book Workshop: &ldquo\;The Constitution of Science&rdquo\;\, C. Mantzavinos</strong></p>\n<p><strong>Workshop Organizer: Jacob Stegenga\, Nanyang Technological University</strong></p>\n<p><strong>June 10\, 2025&nbsp\;</strong></p>\n<p>This workshop will take place at the&nbsp\;<strong>University of Athens</strong>&nbsp\;and will discuss a new book by Chrysostomos Mantzavinos\, titled &ldquo\;The Constitution of Science&rdquo\; (Cambridge University Press\, 2024).</p>\n<p>Venue: Kostis Palamas building\, 48 Akadimias Str\, Athens\, Greece.&nbsp\;</p>\n<p>Attendance is free\, but registration is required by sending an email to: pkaradimas@phs.uoa.gr&nbsp\;</p>\n<p><strong>Workshop Schedule</strong></p>\n<p>10:15 Jacob Stegenga: Welcome&nbsp\;</p>\n<p>10:30 Chrysostomos Mantzavinos: Introduction to &ldquo\;The Constitution of Science&rdquo\;</p>\n<p>11:00 Mathias Frisch (Leibniz University Hannover)</p>\n<p>11:30 Coffee break</p>\n<p>12:00 Orly Shenker (Hebrew University)</p>\n<p>12:30 Adri&agrave\; Segarra (University of Cambridge)</p>\n<p>13:00 Ina J&auml\;ntgen (LMU Munich)</p>\n<p>13:30 Lunch</p>\n<p>15:00 Jacob Stegenga (NTU Singapore)</p>\n<p>15:30 Philip Kitcher (Columbia University)</p>\n<p>16:00 Coffee break</p>\n<p>16:30 Chrysostomos Mantzavinos: Response</p>\n<p>17:00 Panel &amp\; Q&amp\;A</p>\n<p>17:30 Reception</p>
ORGANIZER;CN=Jacob Stegenga:
METHOD:PUBLISH
END:VEVENT
END:VCALENDAR
