BEGIN:VCALENDAR
PRODID:-//Grails iCalendar plugin//NONSGML Grails iCalendar plugin//EN
VERSION:2.0
CALSCALE:GREGORIAN
METHOD:PUBLISH
BEGIN:VEVENT
DTSTAMP:20260425T024842Z
DTSTART;TZID=America/Chicago:20251024T120000
DTEND;TZID=America/Chicago:20251025T170000
SUMMARY:Southern Illinois University Edwardsville Undergraduate Philosophy Conference
UID:20260426T123748Z-iCalPlugin-Grails@philevents-web-6b96c54f56-bljdq
TZID:America/Chicago
LOCATION:Hairpin Dr.\, Edwardsville\, United States
DESCRIPTION:<p>For those undergraduates interested in presenting a paper\, see the accompanying call for papers posted to PhilEvents.</p>\n<p>Students whose papers have been accepted for presentation will receive conference details (e.g. about travel and scheduling) with the message notifying them of their paper being accepted.</p>
ORGANIZER;CN=Matthew Cashen:
METHOD:PUBLISH
END:VEVENT
END:VCALENDAR
