BEGIN:VCALENDAR
PRODID:-//Grails iCalendar plugin//NONSGML Grails iCalendar plugin//EN
VERSION:2.0
CALSCALE:GREGORIAN
METHOD:PUBLISH
BEGIN:VEVENT
DTSTAMP:20260421T164355Z
DTSTART;TZID=Europe/London:20251127T000000
DTEND;TZID=Europe/London:20251128T170000
SUMMARY:Simposio Internacional MemoriEs 2025
UID:20260423T211035Z-iCalPlugin-Grails@philevents-web-6b96c54f56-bljdq
TZID:Europe/London
DESCRIPTION:<p>(English below)<br><br>El Simposio Internacional MemoriEs 2025 Memoria\, Salud y Patolog&iacute\;a: Reflexiones Filos&oacute\;ficas sobre el Cuerpo y la Mente se propone como un espacio de di&aacute\;logo interdisciplinario orientado al estudio de la memoria y su vinculaci&oacute\;n con tem&aacute\;ticas relacionadas con la salud y la enfermedad desde una orientaci&oacute\;n filos&oacute\;fica. A partir de una articulaci&oacute\;n entre distintas &aacute\;reas del conocimiento\, el encuentro busca generar reflexiones cr&iacute\;ticas en torno a las formas en que se construyen\, experimentan y problematizan el cuerpo y la mente en relaci&oacute\;n especial con la memoria.</p>\n<p>A trav&eacute\;s de este encuentro\, la Red Interdisciplinaria de Estudios de Memoria &mdash\;MemoriEs&mdash\; reafirma su compromiso con el fomento de perspectivas cr&iacute\;ticas y plurales en el an&aacute\;lisis de los procesos de memoria\, al tiempo que promueve el di&aacute\;logo acad&eacute\;mico en castellano\, como forma de reivindicar otras lenguas y otros modos de hacer investigaci&oacute\;n.&nbsp\;<br><br>Link de registro:&nbsp\;https://forms.gle/vdkAMX8FK6j4EU7UA<br><br>ENGLISH</p>\n<p>(This event will be fully conducted in Spanish)</p>\n<p>The International Symposium MemoriEs 2025 <em>Memory\, Health\, and Pathology: Philosophical Reflections on Body and Mind</em> is conceived as a space for interdisciplinary dialogue focused on the study of memory and its connection to issues related to health and illness from a philosophical perspective. By bringing together different fields of knowledge\, the symposium aims to foster critical reflection on how the body and mind are constructed\, experienced\, and problematised in relation to memory.</p>\n<p>Through this event\, the Interdisciplinary Network for Memory Studies &mdash\;MemoriEs&mdash\; reaffirms its commitment to promoting critical and plural perspectives in the analysis of memory processes\, while also encouraging academic dialogue in Spanish as a way of reclaiming other languages and alternative modes of conducting research.&nbsp\;</p>
ORGANIZER;CN="Alberto Guerrero-Velázquez";CN=Lucienne Huby;CN="Marcela Zárate Rochín":
METHOD:PUBLISH
END:VEVENT
END:VCALENDAR
