BEGIN:VCALENDAR
PRODID:-//Grails iCalendar plugin//NONSGML Grails iCalendar plugin//EN
VERSION:2.0
CALSCALE:GREGORIAN
METHOD:PUBLISH
BEGIN:VEVENT
DTSTAMP:20260421T163246Z
DTSTART;TZID=Europe/London:20250915T234500
DTEND;TZID=Europe/London:20250915T234500
SUMMARY:Simposio Internacional MemoriEs 2025
UID:20260423T205203Z-iCalPlugin-Grails@philevents-web-6b96c54f56-bljdq
TZID:Europe/London
DESCRIPTION:<p>(English below)</p>\n<p>Convocamos a investigadores\, estudiantes de doctorado y profesionales de Filosof&iacute\;a\, Neurociencias\, Antropolog&iacute\;a\, Memoria hist&oacute\;rica\, Ciencias cognitivas\, Psicolog&iacute\;a u otras &aacute\;reas relacionadas con la memoria a participar en el simposio como ponentes. Cada ponente tendr&aacute\; una participaci&oacute\;n de 45 minutos en total\, distribu&iacute\;dos en 20 a 25 minutos de ponencia + 15 a 20 minutos de discusi&oacute\;n.&nbsp\;Los trabajos pueden cubrir &mdash\;aunque no limitarse&mdash\; a los siguientes temas actuales de discusi&oacute\;n en la filosof&iacute\;a de la memoria:</p>\n<ul>\n<li>\n<p>Neurodivergencia y memoria&nbsp\;</p>\n</li>\n<li>\n<p>Procesos de memoria y pr&aacute\;cticas sociales en los trastornos mentales</p>\n</li>\n<li>\n<p>Aproximaciones corporizadas a la memoria y a la patolog&iacute\;a&nbsp\;</p>\n</li>\n<li>\n<p>Desarrollo y envejecimiento de la memoria&nbsp\;</p>\n</li>\n<li>\n<p>Lenguaje y comunicaci&oacute\;n en la neurodivergencia</p>\n</li>\n<li>\n<p>Memoria y trauma</p>\n</li>\n<li>\n<p>Injusticia epist&eacute\;mica y fiabilidad del recuerdo&nbsp\;</p>\n</li>\n</ul>\n<p>Solicitamos a los interesados que env&iacute\;en un resumen de m&aacute\;ximo 300 palabras de su presentaci&oacute\;n\, m&aacute\;s un t&iacute\;tulo (y subt&iacute\;tulo\, en su caso) de su ponencia\, y tres palabras clave.&nbsp\;Los res&uacute\;menes deben enviarse a m&aacute\;s tardar el&nbsp\;15 de septiembre de 2025.&nbsp\;Animamos especialmente a los doctorandos e investigadores de carrera temprana a participar en el simposio.&nbsp\;</p>\n<p><strong>Link para enviar un resumen:</strong>&nbsp\;https://forms.gle/HmFUALu446Jevdeq8&nbsp\;</p>\n<p>ENGLISH</p>\n<p>(This event will be fully conducted in Spanish)<br><br>We invite researchers\, doctoral students\, and professionals in Philosophy\, Neuroscience\, Anthropology\, Historical Memory\, Cognitive Science\, Psychology\, and other fields related to memory to participate in the symposium as speakers. Each speaker will have a total of 45 minutes\, including 20 to 25 minutes for the presentation and 15 to 20 minutes for discussion. Presentations may address &mdash\; though are not limited to &mdash\; the following current topics in the philosophy of memory:</p>\n<ul>\n<li>\n<p>Neurodivergence and memory</p>\n</li>\n<li>\n<p>Memory processes and social practices in mental disorders</p>\n</li>\n<li>\n<p>Embodied approaches to memory and pathology</p>\n</li>\n<li>\n<p>Development and ageing of memory</p>\n</li>\n<li>\n<p>Language and communication in neurodivergence</p>\n</li>\n<li>\n<p>Memory and trauma</p>\n</li>\n<li>\n<p>Epistemic injustice and the reliability of remembering</p>\n</li>\n</ul>\n<p>Those interested are invited to submit an abstract of no more than 300 words\, along with a title (and subtitle\, if applicable) and three keywords. Abstracts must be submitted by 15 September 2025. We especially encourage doctoral students and early-career researchers to participate in the symposium.</p>
ORGANIZER;CN="Alberto Guerrero-Velázquez";CN=Lucienne Huby;CN="Marcela Zárate Rochín":
METHOD:PUBLISH
END:VEVENT
END:VCALENDAR
