BEGIN:VCALENDAR
PRODID:-//Grails iCalendar plugin//NONSGML Grails iCalendar plugin//EN
VERSION:2.0
CALSCALE:GREGORIAN
METHOD:PUBLISH
BEGIN:VEVENT
DTSTAMP:20260423T225242Z
DTSTART;TZID=America/Lima:20250802T090000
DTEND;TZID=America/Lima:20250809T170000
SUMMARY:ALFun 2025
UID:20260430T184523Z-iCalPlugin-Grails@philevents-web-6b96c54f56-bljdq
TZID:America/Lima
LOCATION:Lima\, Peru
DESCRIPTION:<p>La Asociaci&oacute\;n Latinoamericana de Filosof&iacute\;a Anal&iacute\;tica (ALFAn) anuncia el seminario intensivo ALFun\, que se llevar&aacute\; a cabo del 2 al 9 de agosto en Lima\, Per&uacute\;. El evento consistir&aacute\; en 6 cursos y un workshop de investigaci&oacute\;n. Los cursos y quienes estar&aacute\;n a su cargo se listan a continuaci&oacute\;n:</p>\n<p>Martin Abreu Zavaleta (Syracuse University): Comunicaci&oacute\;n no-ideal&nbsp\;</p>\n<p>Juan Comesa&ntilde\;a (Rutgers University): Teor&iacute\;a de la decisi&oacute\;n</p>\n<p>Dmitri Gallow (University of Southern California): Causalidad y responsabilidad moral</p>\n<p>Adam Sennet (University of California\, Davis): La sem&aacute\;ntica de los insultos grupales</p>\n<p>Erica Shumener (Syracuse University): Leyes de la naturaleza</p>\n<p>Gabriel Uzquiano (University of Southern California): Metaf&iacute\;sica del tiempo</p>\n<p>Las charlas que formar&aacute\;n parte del workshop ser&aacute\;n anunciadas en las pr&oacute\;ximas semanas. Los cursos se llevar&aacute\;n a cabo en la Pontificia Universidad Cat&oacute\;lica del Per&uacute\; y la Universidad Antonio Ruiz de Montoya. El workshop se realizar&aacute\; en la Universidad Nacional Mayor de San Marcos.</p>\n<p>El evento cuenta con un fondo para financiar los costos de transporte y estad&iacute\;a relacionados al evento. Para solicitar dichos fondos debe enviarse un correo electr&oacute\;nico a alfun.peru.2025@gmail.com con los siguientes documentos:</p>\n<p>-Ficha de datos personales (nombre\, filiaci&oacute\;n acad&eacute\;mica\, correo electr&oacute\;nico)</p>\n<p>-CV (no documentado\, que incluya grados acad&eacute\;micos\, reconocimientos\, formaci&oacute\;n filos&oacute\;fica\, experiencia laboral)</p>\n<p>-Carta de motivaci&oacute\;n</p>\n<p>-Adicionalmente\, una carta de recomendaci&oacute\;n debe ser enviada directamente por la persona que recomiende</p>\n<p>Para garantizar que la solicitud sea evaluada\, esta debe ser enviada hasta el viernes 4 de julio.</p>\n<p>Nota: El financiamiento es posible gracias al Small Grant Fund de la American Philosophical Association.</p>
ORGANIZER;CN=Jaime Castillo-Gamboa;CN=Eduardo Villanueva;CN=Nurit Matuk:
METHOD:PUBLISH
END:VEVENT
END:VCALENDAR
