BEGIN:VCALENDAR
PRODID:-//Grails iCalendar plugin//NONSGML Grails iCalendar plugin//EN
VERSION:2.0
CALSCALE:GREGORIAN
METHOD:PUBLISH
BEGIN:VEVENT
DTSTAMP:20260420T085503Z
DTSTART;TZID=America/Toronto:20140702T120000
DTEND;TZID=America/Toronto:20140702T120000
SUMMARY:2014 Meeting of the International Association for Computing and Philosophy (IACAP)
UID:20260424T142013Z-iCalPlugin-Grails@philevents-web-f5d4878dd-nv7xt
TZID:America/Toronto
LOCATION:Thessaloníki\, Greece
DESCRIPTION:<p><strong>Call for Papers: IACAP 2014</strong></p>\n<p>Deadline for abstracts &amp\; symposia: 15.3.14</p>\n<p><em>The Annual Meeting of the&nbsp\;<a href="http://www.iacap.org/">International Association for Computing and Philosophy</a></em></p>\n<p>Anatolia College/ACT<br> Thessaloniki\, Greece<br> July 2-4\, 2014<br> <a href="http://www.pt-ai.org/iacap/2014/">http://www.pt-ai.org/iacap/2014/</a></p>\n<p>&nbsp\;Organisation:&nbsp\;<a href="http://www.sophia.de/">Vincent C. M&uuml\;ller</a>&nbsp\;&amp\; the IACAP Executive Committee</p>\n<p>Computing technologies both raise philosophical questions and shed light on traditional philosophical problems\; it is this two-way relation that is the focus of IACAP meetings since 1986.</p>\n<p>&nbsp\;We invite submission of<em>&nbsp\;abstracts</em>\, as well as submission of&nbsp\;<em>proposals for symposia</em>&nbsp\;on computing and philosophy. This year&rsquo\;s meeting will have a single main track\, focusing on topics which proved to be at the core of IACAP member&rsquo\;s interest. In parallel\, the symposia will focus on more specific topics\, organised autonomously by members or member groups. One symposium will be dedicated to the work of&nbsp\;<em>young researchers</em>.</p>\n<p>&nbsp\;We will publish selected papers in a volume of the &lsquo\;Synthese Library&rsquo\; (Springer). Authors of accepted abstracts will be invited to submit a full paper for peer-review to this volume.</p>\n<p>&nbsp\;Some abstracts will be accepted for presentation as posters. For papers\, we foresee slots of 30 minutes per talk\, including discussion.</p>\n<p><strong>&nbsp\;</strong><strong>Invited Speakers</strong></p>\n<p><a href="http://univie.academia.edu/JudithSimon">Judith Simon</a>&nbsp\;(ITU Kopenhagen)<br> <a href="https://www.mathrix.org/">Hector Zenil</a>&nbsp\;(Karolinska Institute\, Stockholm)<br> <a href="http://homepages.rpi.edu/~brings/">Selmer Bringsjord</a>&nbsp\;(Rensselaer Polytechnic Institute\, Troy\, NY) -&nbsp\;<a href="http://www.iacap.org/awards/">Covey Award Winner</a><br> <a href="http://www.umsl.edu/~piccininig/">Gualterio Piccinini</a>&nbsp\;(U Missouri- St. Louis) -&nbsp\;<a href="http://www.iacap.org/awards/">Simon Award Winner</a><br> <a href="http://people.kmi.open.ac.uk/knight/">Simon Knight</a>&nbsp\;(Open University) -&nbsp\;<a href="http://www.iacap.org/awards/">Brian Michael Goldberg Memorial Award Winner</a></p>\n<p><a href="https://en.wikipedia.org/wiki/Gregory_Chaitin">Gregory Chatin</a>&nbsp\;(Federal University of Rio de Janeiro) - symposium speaker</p>\n<p><a href="http://www1.maths.leeds.ac.uk/~pmt6sbc/">S. Barry Cooper</a>&nbsp\;(University of Leeds) - symposium speaker</p>\n<p><strong>&nbsp\;</strong><strong>Symposia:</strong></p>\n<ol>\n<li>Young reseachers symposium - Organiser: VCM</li>\n<li>History and philosophy of computing - Organisers: Giuseppe Primiero and Liesbeth De Mol</li>\n<li>Anti-reductionist computational metaphors in evolution\, metamathematics and the contemporary human self-image - Organiser: Gordana Dodig-Crnkovic</li>\n<li>Robotics: from Science Fiction to Legal Fact - Organisers: Sabine Thuermel\, Fiorella Battaglia\, Barbara Henry</li>\n<li>... more to be confirmed</li>\n</ol>\n<p><strong>&nbsp\;</strong><strong>Topics of interest:</strong></p>\n<p>&nbsp\;&nbsp\; &nbsp\;&bull\;&nbsp\;&nbsp\; &nbsp\;Artificial Intelligence<br> &nbsp\;&nbsp\; &nbsp\;&bull\;&nbsp\;&nbsp\; &nbsp\;Artificial Life<br> &nbsp\;&nbsp\; &nbsp\;&bull\;&nbsp\;&nbsp\; &nbsp\;Cognitive Science\, Computation &amp\; Cognition<br> &nbsp\;&nbsp\; &nbsp\;&bull\;&nbsp\;&nbsp\; &nbsp\;Computational Modeling in Science and Social Science<br> &nbsp\;&nbsp\; &nbsp\;&bull\;&nbsp\;&nbsp\; &nbsp\;Computer-Mediated Communication<br> &nbsp\;&nbsp\; &nbsp\;&bull\;&nbsp\;&nbsp\; &nbsp\;Distance Education and Electronic Pedagogy<br> &nbsp\;&nbsp\; &nbsp\;&bull\;&nbsp\;&nbsp\; &nbsp\;Ethical Problems and Societal Impact of Computation and Information<br> &nbsp\;&nbsp\; &nbsp\;&bull\;&nbsp\;&nbsp\; &nbsp\;History of Computing<br> &nbsp\;&nbsp\; &nbsp\;&bull\;&nbsp\;&nbsp\; &nbsp\;Information Culture and Society<br> &nbsp\;&nbsp\; &nbsp\;&bull\;&nbsp\;&nbsp\; &nbsp\;Logic<br> &nbsp\;&nbsp\; &nbsp\;&bull\;&nbsp\;&nbsp\; &nbsp\;Metaphysics of Computing<br> &nbsp\;&nbsp\; &nbsp\;&bull\;&nbsp\;&nbsp\; &nbsp\;Philosophy of Information<br> &nbsp\;&nbsp\; &nbsp\;&bull\;&nbsp\;&nbsp\; &nbsp\;Philosophy of Information Technology<br> &nbsp\;&nbsp\; &nbsp\;&bull\;&nbsp\;&nbsp\; &nbsp\;Robotics<br> &nbsp\;&nbsp\; &nbsp\;&bull\;&nbsp\;&nbsp\; &nbsp\;Virtual Reality<br> ... and related issues</p>\n<p><strong>&nbsp\;</strong></p>\n<p><strong>Format</strong><br> For abstracts\, we request anonymous submission of 600-1000 words (plus references) in plain text or PDF\, plus a short abstract of up to 120 words. All submissions will be reviewed double-blind by at least two members of the programme committee.</p>\n<p>For symposia\, please provide a brief motivation (ca. 300 words)\, a list of envisaged speakers\, and indication of time needed (full day\, half day\, etc.).</p>\n<p><strong>&nbsp\;</strong><strong>Dates</strong></p>\n<p>Submission of symposium proposals: 15 March 2014<br> Submissions of abstracts: 15 March 2014 [extended]<br> Notification of acceptance or rejection: 14 April 2014<br> (for symposia\, we respond asap)</p>\n<p>Submission on EasyChair at&nbsp\;<a href="https://www.easychair.org/conferences/?conf=iacap2014">https://www.easychair.org/conferences/?conf=iacap2014</a></p>\n<p>More details on&nbsp\;<a href="http://www.pt-ai.org/iacap/2014/online-submission">http://www.pt-ai.org/iacap/2014/online-submission</a></p>
ORGANIZER;CN="Vincent C. Müller":
METHOD:PUBLISH
END:VEVENT
END:VCALENDAR
