BEGIN:VCALENDAR
PRODID:-//Grails iCalendar plugin//NONSGML Grails iCalendar plugin//EN
VERSION:2.0
CALSCALE:GREGORIAN
METHOD:PUBLISH
BEGIN:VEVENT
DTSTAMP:20260421T164355Z
DTSTART;TZID=America/New_York:20251114T090000
DTEND;TZID=America/New_York:20251114T170000
SUMMARY:7th CNY Moral Psychology Workshop
UID:20260423T211034Z-iCalPlugin-Grails@philevents-web-6b96c54f56-bljdq
TZID:America/New_York
LOCATION:1331 Salt Springs Rd\, Syracuse\, United States\, 13214
DESCRIPTION:<p>Please see the Workshop website for additional details.</p>
ORGANIZER;CN=Randall R. Curren;CN=Irene Liu;CN=John M. Monteleone;CN=Joseph Spino:
METHOD:PUBLISH
END:VEVENT
END:VCALENDAR
