BEGIN:VCALENDAR
PRODID:-//Grails iCalendar plugin//NONSGML Grails iCalendar plugin//EN
VERSION:2.0
CALSCALE:GREGORIAN
METHOD:PUBLISH
BEGIN:VEVENT
DTSTAMP:20260421T184415Z
DTSTART;TZID=America/New_York:20250822T090000
DTEND;TZID=America/New_York:20250822T090000
SUMMARY:7th CNY Moral Psychology Workshop
UID:20260424T030001Z-iCalPlugin-Grails@philevents-web-6b96c54f56-bljdq
TZID:America/New_York
LOCATION:1331 Salt Springs Rd\, Syracuse\, United States\, 13214
DESCRIPTION:<p>The 6th CNY Moral Psychology workshop will be held on <strong>Nov. 14\, 2025.</strong> Any topic in moral psychology is welcome. For suggested topics\, see the program from previous years or About the Workshop (https://sites.google.com/lemoyne.edu/cnymoralpsychology/about). We will hold the Workshop this year in-person at Le Moyne College in Syracuse\, NY. There will not be an option to attend remotely.</p>\n<p>Sessions are read-ahead. After a brief summary of the paper's main claims and arguments\, the session will be spent in discussion. Applicants will be asked to submit rough drafts of their work (max 25 pages) in late October.</p>\n<p>This year's Workshop will feature a keynote by Dr. Lorraine Besser (Middlebury). Title TBA.</p>\n<p>To have a presentation considered\, please submit a 500-600 word abstract in the website (https://sites.google.com/lemoyne.edu/cnymoralpsychology/2025-cfa). Abstracts are due by <u><strong><em>Aug 22.</em></strong></u></p>\n
ORGANIZER;CN=Randall R. Curren;CN=Irene Liu;CN=John M. Monteleone;CN=Joseph Spino:
METHOD:PUBLISH
END:VEVENT
END:VCALENDAR
