BEGIN:VCALENDAR
PRODID:-//Grails iCalendar plugin//NONSGML Grails iCalendar plugin//EN
VERSION:2.0
CALSCALE:GREGORIAN
METHOD:PUBLISH
BEGIN:VEVENT
DTSTAMP:20260420T223116Z
DTSTART;TZID=Europe/London:20251001T090000
DTEND;TZID=Europe/London:20260630T170000
SUMMARY:UK XPHI Online
UID:20260421T121859Z-iCalPlugin-Grails@philevents-web-6b96c54f56-bljdq
TZID:Europe/London
DESCRIPTION:<p>We are delighted to announce the next series of our monthly online workshop devoted to discussion of work in progress in experimental philosophy. The workshop is usually held via Teams\, the second Wednesday of each month\, 16:00-18:00 UK time.&nbsp\; Details of 2025/26 season TBC</p>\n&nbsp\;
ORGANIZER;CN=James Andow;CN=Eugen Fischer:
METHOD:PUBLISH
END:VEVENT
END:VCALENDAR
