BEGIN:VCALENDAR
PRODID:-//Grails iCalendar plugin//NONSGML Grails iCalendar plugin//EN
VERSION:2.0
CALSCALE:GREGORIAN
METHOD:PUBLISH
BEGIN:VEVENT
DTSTAMP:20260421T001335Z
DTSTART;TZID=Europe/London:20250731T234500
DTEND;TZID=Europe/London:20250731T234500
SUMMARY:UK XPHI Online
UID:20260421T204157Z-iCalPlugin-Grails@philevents-web-6b96c54f56-bljdq
TZID:Europe/London
DESCRIPTION:<p>We are delighted to announce the next series of our monthly online workshop devoted to discussion of work in progress in experimental philosophy. The workshop is usually held via Teams\, the second Wednesday of each month\, 16:00-18:00 UK time. Full details of 2025/26 season TBC.</p>\n<p>Anyone interested in presenting work in progress in 2025/26\, please email the <a href="mailto:james.andow@manchester.ac.uk">organizers</a> by July 31\, 2025: james.andow@manchester.ac.uk.</p>
ORGANIZER;CN=James Andow;CN=Eugen Fischer:
METHOD:PUBLISH
END:VEVENT
END:VCALENDAR
